BEGIN:VCALENDAR
VERSION:2.0
PRODID:-//Elm Park Community Association - ECPv6.3.2//NONSGML v1.0//EN
CALSCALE:GREGORIAN
METHOD:PUBLISH
X-ORIGINAL-URL:https://epca.org.uk
X-WR-CALDESC:Events for Elm Park Community Association
REFRESH-INTERVAL;VALUE=DURATION:PT1H
X-Robots-Tag:noindex
X-PUBLISHED-TTL:PT1H
BEGIN:VTIMEZONE
TZID:UTC
BEGIN:STANDARD
TZOFFSETFROM:+0000
TZOFFSETTO:+0000
TZNAME:UTC
DTSTART:20260101T000000
END:STANDARD
END:VTIMEZONE
BEGIN:VEVENT
DTSTART;TZID=UTC:20260131T100000
DTEND;TZID=UTC:20260131T130000
DTSTAMP:20260423T230227
CREATED:20251127T154044Z
LAST-MODIFIED:20251127T154044Z
UID:1084-1769853600-1769864400@epca.org.uk
SUMMARY:INDOOR BOOT SALE
DESCRIPTION:To book a table please email events@epca.org.uk
URL:https://epca.org.uk/event/indoor-boot-sale-13/
LOCATION:ELM PARK COMMUNITY ASSOCIATION\, 108 EYHURST AVENUE\, ELM PARK\, ESSEX\, RM12 4RA
END:VEVENT
BEGIN:VEVENT
DTSTART;TZID=UTC:20260228T100000
DTEND;TZID=UTC:20260228T130000
DTSTAMP:20260423T230227
CREATED:20251127T154214Z
LAST-MODIFIED:20251127T154214Z
UID:1087-1772272800-1772283600@epca.org.uk
SUMMARY:INDOOR BOOT SALE
DESCRIPTION:To book a table please email events@epca.org.uk
URL:https://epca.org.uk/event/indoor-boot-sale-14/
LOCATION:ELM PARK COMMUNITY ASSOCIATION\, 108 EYHURST AVENUE\, ELM PARK\, ESSEX\, RM12 4RA
END:VEVENT
BEGIN:VEVENT
DTSTART;TZID=UTC:20260328T100000
DTEND;TZID=UTC:20260328T130000
DTSTAMP:20260423T230227
CREATED:20251127T154314Z
LAST-MODIFIED:20251127T154314Z
UID:1090-1774692000-1774702800@epca.org.uk
SUMMARY:INDOOR BOOT SALE
DESCRIPTION:To book a table please email events@epca.org.uk
URL:https://epca.org.uk/event/indoor-boot-sale-15/
LOCATION:ELM PARK COMMUNITY ASSOCIATION\, 108 EYHURST AVENUE\, ELM PARK\, ESSEX\, RM12 4RA
END:VEVENT
BEGIN:VEVENT
DTSTART;TZID=UTC:20260425T100000
DTEND;TZID=UTC:20260425T130000
DTSTAMP:20260423T230227
CREATED:20251127T154358Z
LAST-MODIFIED:20251127T154358Z
UID:1093-1777111200-1777122000@epca.org.uk
SUMMARY:INDOOR BOOT SALE
DESCRIPTION:To book a table please email events@epca.org.uk
URL:https://epca.org.uk/event/indoor-boot-sale-16/
LOCATION:ELM PARK COMMUNITY ASSOCIATION\, 108 EYHURST AVENUE\, ELM PARK\, ESSEX\, RM12 4RA
END:VEVENT
BEGIN:VEVENT
DTSTART;TZID=UTC:20260530T100000
DTEND;TZID=UTC:20260530T130000
DTSTAMP:20260423T230227
CREATED:20251127T154454Z
LAST-MODIFIED:20251127T154454Z
UID:1096-1780135200-1780146000@epca.org.uk
SUMMARY:INDOOR BOOT SALE
DESCRIPTION:To book a table please email events@epca.org.uk
URL:https://epca.org.uk/event/indoor-boot-sale-17/
LOCATION:ELM PARK COMMUNITY ASSOCIATION\, 108 EYHURST AVENUE\, ELM PARK\, ESSEX\, RM12 4RA
END:VEVENT
BEGIN:VEVENT
DTSTART;TZID=UTC:20260627T100000
DTEND;TZID=UTC:20260627T130000
DTSTAMP:20260423T230227
CREATED:20251127T154543Z
LAST-MODIFIED:20251127T154543Z
UID:1099-1782554400-1782565200@epca.org.uk
SUMMARY:INDOOR BOOT SALE
DESCRIPTION:To book a table please email events@epca.org.uk
URL:https://epca.org.uk/event/indoor-boot-sale-18/
LOCATION:ELM PARK COMMUNITY ASSOCIATION\, 108 EYHURST AVENUE\, ELM PARK\, ESSEX\, RM12 4RA
END:VEVENT
BEGIN:VEVENT
DTSTART;TZID=UTC:20260926T100000
DTEND;TZID=UTC:20260926T130000
DTSTAMP:20260423T230227
CREATED:20251127T154630Z
LAST-MODIFIED:20251127T154630Z
UID:1102-1790416800-1790427600@epca.org.uk
SUMMARY:INDOOR BOOT SALE
DESCRIPTION:To book a table please email events@epca.org.uk
URL:https://epca.org.uk/event/indoor-boot-sale-19/
LOCATION:ELM PARK COMMUNITY ASSOCIATION\, 108 EYHURST AVENUE\, ELM PARK\, ESSEX\, RM12 4RA
END:VEVENT
BEGIN:VEVENT
DTSTART;TZID=UTC:20261031T100000
DTEND;TZID=UTC:20261031T130000
DTSTAMP:20260423T230227
CREATED:20251127T154750Z
LAST-MODIFIED:20251127T154750Z
UID:1105-1793440800-1793451600@epca.org.uk
SUMMARY:INDOOR BOOT SALE
DESCRIPTION:To book a table please email events@epca.org.uk
URL:https://epca.org.uk/event/indoor-boot-sale-20/
LOCATION:ELM PARK COMMUNITY ASSOCIATION\, 108 EYHURST AVENUE\, ELM PARK\, ESSEX\, RM12 4RA
END:VEVENT
BEGIN:VEVENT
DTSTART;TZID=UTC:20261128T100000
DTEND;TZID=UTC:20261128T130000
DTSTAMP:20260423T230227
CREATED:20251127T154918Z
LAST-MODIFIED:20251127T154918Z
UID:1111-1795860000-1795870800@epca.org.uk
SUMMARY:INDOOR BOOT SALE
DESCRIPTION:To book a table please email events@epca.org.uk
URL:https://epca.org.uk/event/indoor-boot-sale-21/
LOCATION:ELM PARK COMMUNITY ASSOCIATION\, 108 EYHURST AVENUE\, ELM PARK\, ESSEX\, RM12 4RA
END:VEVENT
END:VCALENDAR