BEGIN:VCALENDAR
VERSION:2.0
PRODID:-//Elm Park Community Association - ECPv6.3.2//NONSGML v1.0//EN
CALSCALE:GREGORIAN
METHOD:PUBLISH
X-WR-CALNAME:Elm Park Community Association
X-ORIGINAL-URL:https://epca.org.uk
X-WR-CALDESC:Events for Elm Park Community Association
REFRESH-INTERVAL;VALUE=DURATION:PT1H
X-Robots-Tag:noindex
X-PUBLISHED-TTL:PT1H
BEGIN:VTIMEZONE
TZID:UTC
BEGIN:STANDARD
TZOFFSETFROM:+0000
TZOFFSETTO:+0000
TZNAME:UTC
DTSTART:20240101T000000
END:STANDARD
END:VTIMEZONE
BEGIN:VEVENT
DTSTART;TZID=UTC:20241107T190000
DTEND;TZID=UTC:20241107T200000
DTSTAMP:20260424T110443
CREATED:20240917T184246Z
LAST-MODIFIED:20240917T184246Z
UID:659-1731006000-1731009600@epca.org.uk
SUMMARY:PUPPY/ ADOLESCENT CLASSES
DESCRIPTION:Set you & your puppy up for success 4 week courseThursdays 7pm-8pmElm Park Assembly Hall\, Hornchurchwww.elitewalks.co.uk07930520056
URL:https://epca.org.uk/event/puppy-adolescent-classes-8/
LOCATION:ELM PARK COMMUNITY ASSOCIATION\, 108 EYHURST AVENUE\, ELM PARK\, ESSEX\, RM12 4RA
END:VEVENT
BEGIN:VEVENT
DTSTART;TZID=UTC:20241106T100000
DTEND;TZID=UTC:20241106T130000
DTSTAMP:20260424T110443
CREATED:20240917T183114Z
LAST-MODIFIED:20240917T183114Z
UID:633-1730887200-1730898000@epca.org.uk
SUMMARY:SOCIAL SESSION
DESCRIPTION:
URL:https://epca.org.uk/event/social-session-6/
LOCATION:ELM PARK COMMUNITY ASSOCIATION\, 108 EYHURST AVENUE\, ELM PARK\, ESSEX\, RM12 4RA
END:VEVENT
BEGIN:VEVENT
DTSTART;TZID=UTC:20241031T190000
DTEND;TZID=UTC:20241031T200000
DTSTAMP:20260424T110443
CREATED:20240917T184154Z
LAST-MODIFIED:20240917T184154Z
UID:657-1730401200-1730404800@epca.org.uk
SUMMARY:PUPPY/ ADOLESCENT CLASSES
DESCRIPTION:Set you & your puppy up for success 4 week courseThursdays 7pm-8pmElm Park Assembly Hall\, Hornchurchwww.elitewalks.co.uk07930520056
URL:https://epca.org.uk/event/puppy-adolescent-classes-7/
LOCATION:ELM PARK COMMUNITY ASSOCIATION\, 108 EYHURST AVENUE\, ELM PARK\, ESSEX\, RM12 4RA
END:VEVENT
BEGIN:VEVENT
DTSTART;TZID=UTC:20241030T100000
DTEND;TZID=UTC:20241030T130000
DTSTAMP:20260424T110443
CREATED:20240917T183051Z
LAST-MODIFIED:20240917T183051Z
UID:631-1730282400-1730293200@epca.org.uk
SUMMARY:SOCIAL SESSION
DESCRIPTION:
URL:https://epca.org.uk/event/social-session-5/
LOCATION:ELM PARK COMMUNITY ASSOCIATION\, 108 EYHURST AVENUE\, ELM PARK\, ESSEX\, RM12 4RA
END:VEVENT
BEGIN:VEVENT
DTSTART;TZID=UTC:20241029T190000
DTEND;TZID=UTC:20241029T200000
DTSTAMP:20260424T110443
CREATED:20240917T184839Z
LAST-MODIFIED:20240917T184839Z
UID:677-1730228400-1730232000@epca.org.uk
SUMMARY:ZUMBA WITH MARIA
DESCRIPTION:Perfect for everybody and every body! Each Zumba® class is designed to bring people together to sweat it on. \nWe take the “work” out of workout\, by mixing low-intensity and high-intensity moves for an interval-style\, calorie-burning dance fitness party. Once the Latin and World rhythms take over\, you’ll see why Zumba® Fitness classes are often called exercise in disguise. Super effective? Check. Super fun? Check and check. \nA total workout\, combining all elements of fitness – cardio\, muscle conditioning\, balance and flexibility\, boosted energy and a serious dose of awesome each time you leave class. \nTuesday Evenings 7pm – 8pm \nCall Maria on 07957 613516
URL:https://epca.org.uk/event/zumba-with-maria-12/
LOCATION:ELM PARK COMMUNITY ASSOCIATION\, 108 EYHURST AVENUE\, ELM PARK\, ESSEX\, RM12 4RA
END:VEVENT
BEGIN:VEVENT
DTSTART;TZID=UTC:20241026T100000
DTEND;TZID=UTC:20241026T130000
DTSTAMP:20260424T110443
CREATED:20240618T154307Z
LAST-MODIFIED:20240618T154307Z
UID:429-1729936800-1729947600@epca.org.uk
SUMMARY:INDOOR BOOT SALE
DESCRIPTION:
URL:https://epca.org.uk/event/indoor-boot-sale-5/
LOCATION:ELM PARK COMMUNITY ASSOCIATION\, 108 EYHURST AVENUE\, ELM PARK\, ESSEX\, RM12 4RA
END:VEVENT
BEGIN:VEVENT
DTSTART;TZID=UTC:20241024T190000
DTEND;TZID=UTC:20241024T200000
DTSTAMP:20260424T110443
CREATED:20240917T184122Z
LAST-MODIFIED:20240917T184122Z
UID:655-1729796400-1729800000@epca.org.uk
SUMMARY:PUPPY/ ADOLESCENT CLASSES
DESCRIPTION:Set you & your puppy up for success 4 week courseThursdays 7pm-8pmElm Park Assembly Hall\, Hornchurchwww.elitewalks.co.uk07930520056
URL:https://epca.org.uk/event/puppy-adolescent-classes-6/
LOCATION:ELM PARK COMMUNITY ASSOCIATION\, 108 EYHURST AVENUE\, ELM PARK\, ESSEX\, RM12 4RA
END:VEVENT
BEGIN:VEVENT
DTSTART;TZID=UTC:20241023T100000
DTEND;TZID=UTC:20241023T130000
DTSTAMP:20260424T110443
CREATED:20240917T183029Z
LAST-MODIFIED:20240917T183029Z
UID:629-1729677600-1729688400@epca.org.uk
SUMMARY:SOCIAL SESSION
DESCRIPTION:
URL:https://epca.org.uk/event/social-session-4/
LOCATION:ELM PARK COMMUNITY ASSOCIATION\, 108 EYHURST AVENUE\, ELM PARK\, ESSEX\, RM12 4RA
END:VEVENT
BEGIN:VEVENT
DTSTART;TZID=UTC:20241022T190000
DTEND;TZID=UTC:20241022T200000
DTSTAMP:20260424T110443
CREATED:20240917T184809Z
LAST-MODIFIED:20240917T184809Z
UID:675-1729623600-1729627200@epca.org.uk
SUMMARY:ZUMBA WITH MARIA
DESCRIPTION:Perfect for everybody and every body! Each Zumba® class is designed to bring people together to sweat it on. \nWe take the “work” out of workout\, by mixing low-intensity and high-intensity moves for an interval-style\, calorie-burning dance fitness party. Once the Latin and World rhythms take over\, you’ll see why Zumba® Fitness classes are often called exercise in disguise. Super effective? Check. Super fun? Check and check. \nA total workout\, combining all elements of fitness – cardio\, muscle conditioning\, balance and flexibility\, boosted energy and a serious dose of awesome each time you leave class. \nTuesday Evenings 7pm – 8pm \nCall Maria on 07957 613516
URL:https://epca.org.uk/event/zumba-with-maria-11/
LOCATION:ELM PARK COMMUNITY ASSOCIATION\, 108 EYHURST AVENUE\, ELM PARK\, ESSEX\, RM12 4RA
END:VEVENT
BEGIN:VEVENT
DTSTART;TZID=UTC:20241017T190000
DTEND;TZID=UTC:20241017T200000
DTSTAMP:20260424T110443
CREATED:20240917T184044Z
LAST-MODIFIED:20240917T184044Z
UID:653-1729191600-1729195200@epca.org.uk
SUMMARY:PUPPY/ ADOLESCENT CLASSES
DESCRIPTION:Set you & your puppy up for success 4 week courseThursdays 7pm-8pmElm Park Assembly Hall\, Hornchurchwww.elitewalks.co.uk07930520056
URL:https://epca.org.uk/event/puppy-adolescent-classes-5/
LOCATION:ELM PARK COMMUNITY ASSOCIATION\, 108 EYHURST AVENUE\, ELM PARK\, ESSEX\, RM12 4RA
END:VEVENT
BEGIN:VEVENT
DTSTART;TZID=UTC:20241016T100000
DTEND;TZID=UTC:20241016T130000
DTSTAMP:20260424T110443
CREATED:20240917T183006Z
LAST-MODIFIED:20240917T183006Z
UID:627-1729072800-1729083600@epca.org.uk
SUMMARY:SOCIAL SESSION
DESCRIPTION:
URL:https://epca.org.uk/event/social-session-3/
LOCATION:ELM PARK COMMUNITY ASSOCIATION\, 108 EYHURST AVENUE\, ELM PARK\, ESSEX\, RM12 4RA
END:VEVENT
BEGIN:VEVENT
DTSTART;TZID=UTC:20241015T190000
DTEND;TZID=UTC:20241015T200000
DTSTAMP:20260424T110443
CREATED:20240917T184737Z
LAST-MODIFIED:20240917T184737Z
UID:673-1729018800-1729022400@epca.org.uk
SUMMARY:ZUMBA WITH MARIA
DESCRIPTION:Perfect for everybody and every body! Each Zumba® class is designed to bring people together to sweat it on. \nWe take the “work” out of workout\, by mixing low-intensity and high-intensity moves for an interval-style\, calorie-burning dance fitness party. Once the Latin and World rhythms take over\, you’ll see why Zumba® Fitness classes are often called exercise in disguise. Super effective? Check. Super fun? Check and check. \nA total workout\, combining all elements of fitness – cardio\, muscle conditioning\, balance and flexibility\, boosted energy and a serious dose of awesome each time you leave class. \nTuesday Evenings 7pm – 8pm \nCall Maria on 07957 613516
URL:https://epca.org.uk/event/zumba-with-maria-10/
LOCATION:ELM PARK COMMUNITY ASSOCIATION\, 108 EYHURST AVENUE\, ELM PARK\, ESSEX\, RM12 4RA
END:VEVENT
BEGIN:VEVENT
DTSTART;TZID=UTC:20241010T190000
DTEND;TZID=UTC:20241010T200000
DTSTAMP:20260424T110443
CREATED:20240917T183943Z
LAST-MODIFIED:20240917T183943Z
UID:651-1728586800-1728590400@epca.org.uk
SUMMARY:PUPPY/ ADOLESCENT CLASSES
DESCRIPTION:Set you & your puppy up for success 4 week courseThursdays 7pm-8pmElm Park Assembly Hall\, Hornchurchwww.elitewalks.co.uk07930520056
URL:https://epca.org.uk/event/puppy-adolescent-classes-4/
LOCATION:ELM PARK COMMUNITY ASSOCIATION\, 108 EYHURST AVENUE\, ELM PARK\, ESSEX\, RM12 4RA
END:VEVENT
BEGIN:VEVENT
DTSTART;TZID=UTC:20241009T100000
DTEND;TZID=UTC:20241009T130000
DTSTAMP:20260424T110443
CREATED:20240917T182946Z
LAST-MODIFIED:20240917T182946Z
UID:625-1728468000-1728478800@epca.org.uk
SUMMARY:SOCIAL SESSION
DESCRIPTION:
URL:https://epca.org.uk/event/social-session-2/
LOCATION:ELM PARK COMMUNITY ASSOCIATION\, 108 EYHURST AVENUE\, ELM PARK\, ESSEX\, RM12 4RA
END:VEVENT
BEGIN:VEVENT
DTSTART;TZID=UTC:20241008T190000
DTEND;TZID=UTC:20241008T200000
DTSTAMP:20260424T110443
CREATED:20240917T184626Z
LAST-MODIFIED:20240917T184626Z
UID:671-1728414000-1728417600@epca.org.uk
SUMMARY:ZUMBA WITH MARIA
DESCRIPTION:Perfect for everybody and every body! Each Zumba® class is designed to bring people together to sweat it on. \nWe take the “work” out of workout\, by mixing low-intensity and high-intensity moves for an interval-style\, calorie-burning dance fitness party. Once the Latin and World rhythms take over\, you’ll see why Zumba® Fitness classes are often called exercise in disguise. Super effective? Check. Super fun? Check and check. \nA total workout\, combining all elements of fitness – cardio\, muscle conditioning\, balance and flexibility\, boosted energy and a serious dose of awesome each time you leave class. \nTuesday Evenings 7pm – 8pm \nCall Maria on 07957 613516
URL:https://epca.org.uk/event/zumba-with-maria-9/
LOCATION:ELM PARK COMMUNITY ASSOCIATION\, 108 EYHURST AVENUE\, ELM PARK\, ESSEX\, RM12 4RA
END:VEVENT
BEGIN:VEVENT
DTSTART;TZID=UTC:20241003T190000
DTEND;TZID=UTC:20241003T200000
DTSTAMP:20260424T110443
CREATED:20240917T183908Z
LAST-MODIFIED:20240917T183908Z
UID:649-1727982000-1727985600@epca.org.uk
SUMMARY:PUPPY/ ADOLESCENT CLASSES
DESCRIPTION:Set you & your puppy up for success 4 week courseThursdays 7pm-8pmElm Park Assembly Hall\, Hornchurchwww.elitewalks.co.uk07930520056
URL:https://epca.org.uk/event/puppy-adolescent-classes-3/
LOCATION:ELM PARK COMMUNITY ASSOCIATION\, 108 EYHURST AVENUE\, ELM PARK\, ESSEX\, RM12 4RA
END:VEVENT
BEGIN:VEVENT
DTSTART;TZID=UTC:20241002T100000
DTEND;TZID=UTC:20241002T130000
DTSTAMP:20260424T110443
CREATED:20240917T182919Z
LAST-MODIFIED:20240917T182919Z
UID:623-1727863200-1727874000@epca.org.uk
SUMMARY:SOCIAL SESSION
DESCRIPTION:
URL:https://epca.org.uk/event/social-session/
LOCATION:ELM PARK COMMUNITY ASSOCIATION\, 108 EYHURST AVENUE\, ELM PARK\, ESSEX\, RM12 4RA
END:VEVENT
BEGIN:VEVENT
DTSTART;TZID=UTC:20241001T190000
DTEND;TZID=UTC:20241001T200000
DTSTAMP:20260424T110443
CREATED:20240917T184600Z
LAST-MODIFIED:20240917T184600Z
UID:669-1727809200-1727812800@epca.org.uk
SUMMARY:ZUMBA WITH MARIA
DESCRIPTION:Perfect for everybody and every body! Each Zumba® class is designed to bring people together to sweat it on. \nWe take the “work” out of workout\, by mixing low-intensity and high-intensity moves for an interval-style\, calorie-burning dance fitness party. Once the Latin and World rhythms take over\, you’ll see why Zumba® Fitness classes are often called exercise in disguise. Super effective? Check. Super fun? Check and check. \nA total workout\, combining all elements of fitness – cardio\, muscle conditioning\, balance and flexibility\, boosted energy and a serious dose of awesome each time you leave class. \nTuesday Evenings 7pm – 8pm \nCall Maria on 07957 613516
URL:https://epca.org.uk/event/zumba-with-maria-8/
LOCATION:ELM PARK COMMUNITY ASSOCIATION\, 108 EYHURST AVENUE\, ELM PARK\, ESSEX\, RM12 4RA
END:VEVENT
BEGIN:VEVENT
DTSTART;TZID=UTC:20240928T100000
DTEND;TZID=UTC:20240928T130000
DTSTAMP:20260424T110443
CREATED:20240618T154216Z
LAST-MODIFIED:20240618T154216Z
UID:426-1727517600-1727528400@epca.org.uk
SUMMARY:INDOOR BOOT SALE
DESCRIPTION:
URL:https://epca.org.uk/event/indoor-boot-sale-4/
LOCATION:ELM PARK COMMUNITY ASSOCIATION\, 108 EYHURST AVENUE\, ELM PARK\, ESSEX\, RM12 4RA
END:VEVENT
BEGIN:VEVENT
DTSTART;TZID=UTC:20240926T190000
DTEND;TZID=UTC:20240926T200000
DTSTAMP:20260424T110443
CREATED:20240917T183825Z
LAST-MODIFIED:20240917T183825Z
UID:647-1727377200-1727380800@epca.org.uk
SUMMARY:PUPPY/ ADOLESCENT CLASSES
DESCRIPTION:Set you & your puppy up for success 4 week courseThursdays 7pm-8pmElm Park Assembly Hall\, Hornchurchwww.elitewalks.co.uk07930520056
URL:https://epca.org.uk/event/puppy-adolescent-classes-2/
LOCATION:ELM PARK COMMUNITY ASSOCIATION\, 108 EYHURST AVENUE\, ELM PARK\, ESSEX\, RM12 4RA
END:VEVENT
BEGIN:VEVENT
DTSTART;TZID=UTC:20240925T100000
DTEND;TZID=UTC:20240925T130000
DTSTAMP:20260424T110443
CREATED:20240718T161847Z
LAST-MODIFIED:20240718T161847Z
UID:586-1727258400-1727269200@epca.org.uk
SUMMARY:ELM PARK SOCIAL SESSION
DESCRIPTION:
URL:https://epca.org.uk/event/elm-park-social-session-11/
LOCATION:ELM PARK COMMUNITY ASSOCIATION\, 108 EYHURST AVENUE\, ELM PARK\, ESSEX\, RM12 4RA
END:VEVENT
BEGIN:VEVENT
DTSTART;TZID=UTC:20240924T190000
DTEND;TZID=UTC:20240924T200000
DTSTAMP:20260424T110443
CREATED:20240917T184516Z
LAST-MODIFIED:20240917T184516Z
UID:667-1727204400-1727208000@epca.org.uk
SUMMARY:ZUMBA WITH MARIA
DESCRIPTION:Perfect for everybody and every body! Each Zumba® class is designed to bring people together to sweat it on. \nWe take the “work” out of workout\, by mixing low-intensity and high-intensity moves for an interval-style\, calorie-burning dance fitness party. Once the Latin and World rhythms take over\, you’ll see why Zumba® Fitness classes are often called exercise in disguise. Super effective? Check. Super fun? Check and check. \nA total workout\, combining all elements of fitness – cardio\, muscle conditioning\, balance and flexibility\, boosted energy and a serious dose of awesome each time you leave class. \nTuesday Evenings 7pm – 8pm \nCall Maria on 07957 613516
URL:https://epca.org.uk/event/zumba-with-maria-7/
LOCATION:ELM PARK COMMUNITY ASSOCIATION\, 108 EYHURST AVENUE\, ELM PARK\, ESSEX\, RM12 4RA
END:VEVENT
BEGIN:VEVENT
DTSTART;TZID=UTC:20240919T190000
DTEND;TZID=UTC:20240919T200000
DTSTAMP:20260424T110443
CREATED:20240917T183745Z
LAST-MODIFIED:20240917T183745Z
UID:644-1726772400-1726776000@epca.org.uk
SUMMARY:PUPPY/ ADOLESCENT CLASSES
DESCRIPTION:Set you & your puppy up for success 4 week courseThursdays 7pm-8pmElm Park Assembly Hall\, Hornchurchwww.elitewalks.co.uk07930520056
URL:https://epca.org.uk/event/puppy-adolescent-classes/
LOCATION:ELM PARK COMMUNITY ASSOCIATION\, 108 EYHURST AVENUE\, ELM PARK\, ESSEX\, RM12 4RA
END:VEVENT
BEGIN:VEVENT
DTSTART;TZID=UTC:20240918T100000
DTEND;TZID=UTC:20240918T130000
DTSTAMP:20260424T110443
CREATED:20240718T161747Z
LAST-MODIFIED:20240718T161747Z
UID:582-1726653600-1726664400@epca.org.uk
SUMMARY:ELM PARK SOCIAL SESSION
DESCRIPTION:
URL:https://epca.org.uk/event/elm-park-social-session-9/
LOCATION:ELM PARK COMMUNITY ASSOCIATION\, 108 EYHURST AVENUE\, ELM PARK\, ESSEX\, RM12 4RA
END:VEVENT
BEGIN:VEVENT
DTSTART;TZID=UTC:20240911T100000
DTEND;TZID=UTC:20240911T130000
DTSTAMP:20260424T110443
CREATED:20240718T161814Z
LAST-MODIFIED:20240718T161814Z
UID:584-1726048800-1726059600@epca.org.uk
SUMMARY:ELM PARK SOCIAL SESSION
DESCRIPTION:
URL:https://epca.org.uk/event/elm-park-social-session-10/
LOCATION:ELM PARK COMMUNITY ASSOCIATION\, 108 EYHURST AVENUE\, ELM PARK\, ESSEX\, RM12 4RA
END:VEVENT
BEGIN:VEVENT
DTSTART;TZID=UTC:20240904T100000
DTEND;TZID=UTC:20240904T130000
DTSTAMP:20260424T110443
CREATED:20240718T161653Z
LAST-MODIFIED:20240718T161653Z
UID:580-1725444000-1725454800@epca.org.uk
SUMMARY:ELM PARK SOCIAL SESSION
DESCRIPTION:
URL:https://epca.org.uk/event/elm-park-social-session-8/
LOCATION:ELM PARK COMMUNITY ASSOCIATION\, 108 EYHURST AVENUE\, ELM PARK\, ESSEX\, RM12 4RA
END:VEVENT
BEGIN:VEVENT
DTSTART;TZID=UTC:20240828T100000
DTEND;TZID=UTC:20240828T130000
DTSTAMP:20260424T110443
CREATED:20240718T161633Z
LAST-MODIFIED:20240718T161633Z
UID:578-1724839200-1724850000@epca.org.uk
SUMMARY:ELM PARK SOCIAL SESSION
DESCRIPTION:
URL:https://epca.org.uk/event/elm-park-social-session-7/
LOCATION:ELM PARK COMMUNITY ASSOCIATION\, 108 EYHURST AVENUE\, ELM PARK\, ESSEX\, RM12 4RA
END:VEVENT
BEGIN:VEVENT
DTSTART;TZID=UTC:20240821T100000
DTEND;TZID=UTC:20240821T130000
DTSTAMP:20260424T110443
CREATED:20240718T161614Z
LAST-MODIFIED:20240718T161614Z
UID:576-1724234400-1724245200@epca.org.uk
SUMMARY:ELM PARK SOCIAL SESSION
DESCRIPTION:
URL:https://epca.org.uk/event/elm-park-social-session-6/
LOCATION:ELM PARK COMMUNITY ASSOCIATION\, 108 EYHURST AVENUE\, ELM PARK\, ESSEX\, RM12 4RA
END:VEVENT
BEGIN:VEVENT
DTSTART;TZID=UTC:20240814T100000
DTEND;TZID=UTC:20240814T130000
DTSTAMP:20260424T110443
CREATED:20240718T161555Z
LAST-MODIFIED:20240718T161555Z
UID:574-1723629600-1723640400@epca.org.uk
SUMMARY:ELM PARK SOCIAL SESSION
DESCRIPTION:
URL:https://epca.org.uk/event/elm-park-social-session-5/
LOCATION:ELM PARK COMMUNITY ASSOCIATION\, 108 EYHURST AVENUE\, ELM PARK\, ESSEX\, RM12 4RA
END:VEVENT
BEGIN:VEVENT
DTSTART;TZID=UTC:20240807T100000
DTEND;TZID=UTC:20240807T130000
DTSTAMP:20260424T110443
CREATED:20240718T161535Z
LAST-MODIFIED:20240718T161535Z
UID:572-1723024800-1723035600@epca.org.uk
SUMMARY:ELM PARK SOCIAL SESSION
DESCRIPTION:
URL:https://epca.org.uk/event/elm-park-social-session-4/
LOCATION:ELM PARK COMMUNITY ASSOCIATION\, 108 EYHURST AVENUE\, ELM PARK\, ESSEX\, RM12 4RA
END:VEVENT
END:VCALENDAR