BEGIN:VCALENDAR
VERSION:2.0
PRODID:-//Elm Park Community Association - ECPv6.3.2//NONSGML v1.0//EN
CALSCALE:GREGORIAN
METHOD:PUBLISH
X-WR-CALNAME:Elm Park Community Association
X-ORIGINAL-URL:https://epca.org.uk
X-WR-CALDESC:Events for Elm Park Community Association
REFRESH-INTERVAL;VALUE=DURATION:PT1H
X-Robots-Tag:noindex
X-PUBLISHED-TTL:PT1H
BEGIN:VTIMEZONE
TZID:UTC
BEGIN:STANDARD
TZOFFSETFROM:+0000
TZOFFSETTO:+0000
TZNAME:UTC
DTSTART:20240101T000000
END:STANDARD
END:VTIMEZONE
BEGIN:VEVENT
DTSTART;TZID=UTC:20240703T173000
DTEND;TZID=UTC:20240703T203000
DTSTAMP:20260425T162639
CREATED:20240618T155315Z
LAST-MODIFIED:20240618T155315Z
UID:453-1720027800-1720038600@epca.org.uk
SUMMARY:KAICHOU KAI KARATE
DESCRIPTION:Kaichou Kai – Strength in Unity – Together we support\, encourage and help each other to reach our goals! \nNo matter what your physical fitness level is\, you can rely on our experienced instructors to teach you martial arts skills and techniques\, from the most basic self-defence methods to advanced fighting techniques. \nAnyone aged 5 years or above can learn karate step by step. \nWe are affiliates of both Karate England and the World United Karate Federation. \nSuitable for all levels of ability. \nMonday & Wednesday \n\n5.30-6.30pm: Children Beginners under 10 years\n6.30pm – 7.30pm: Children beginners & Intermediate under 12 years\n7.15pm – 8.15pm: Advanced & beginners\, all ages 13 years plus\n\nInstructor: Moira Barber – 8th Dan \nVisit our Website at www.kaichoukaikarate.co.uk  \nFor more information please call Sensei Moira Barber on 07779 237 344 \nor alternative please email moirabarber@kaichoukaikarate.co.uk 
URL:https://epca.org.uk/event/kaichou-kai-karate-5/
LOCATION:ELM PARK COMMUNITY ASSOCIATION\, 108 EYHURST AVENUE\, ELM PARK\, ESSEX\, RM12 4RA
END:VEVENT
BEGIN:VEVENT
DTSTART;TZID=UTC:20240703T163000
DTEND;TZID=UTC:20240703T183000
DTSTAMP:20260425T162639
CREATED:20240618T161034Z
LAST-MODIFIED:20240618T161034Z
UID:496-1720024200-1720031400@epca.org.uk
SUMMARY:SCHOLARS TUITION
DESCRIPTION:We are a tuition centre with branches located across East London offering Maths\, English & Science classes From Primary school all the way up to A-Levels. With a unique & tailored one-to-one support establishes a strong foundation to master a topic of any subject with results evident in school progress and homeworks. \nWe adhere to the traditional “pen to paper” teaching approach\, providing all students with resources and booklets that are included in your fees. Say goodbye to screens. \nOur branches are located in Elm Park\, Romford\, Goodmayes\, Forest Gate & Manor Park. \nOur Elm Park branch is located at the Elm Park Assembly Hall RM12 4RA on: \nMondays & Wednesdays 4.30-6.30pm and Saturdays 2-6pm. \nBOOK A TASTER SESSION NOW!  by calling us on 073 087 44466. \nWebsite: www.scholarstuition.com \nInstagram: @scholarstuition
URL:https://epca.org.uk/event/scholars-tuition-6/
LOCATION:ELM PARK COMMUNITY ASSOCIATION\, 108 EYHURST AVENUE\, ELM PARK\, ESSEX\, RM12 4RA
END:VEVENT
BEGIN:VEVENT
DTSTART;TZID=UTC:20240702T190000
DTEND;TZID=UTC:20240702T200000
DTSTAMP:20260425T162639
CREATED:20240618T154724Z
LAST-MODIFIED:20240618T154724Z
UID:437-1719946800-1719950400@epca.org.uk
SUMMARY:ZUMBA WITH MARIA
DESCRIPTION:Perfect for everybody and every body! Each Zumba® class is designed to bring people together to sweat it on. \nWe take the “work” out of workout\, by mixing low-intensity and high-intensity moves for an interval-style\, calorie-burning dance fitness party. Once the Latin and World rhythms take over\, you’ll see why Zumba® Fitness classes are often called exercise in disguise. Super effective? Check. Super fun? Check and check. \nA total workout\, combining all elements of fitness – cardio\, muscle conditioning\, balance and flexibility\, boosted energy and a serious dose of awesome each time you leave class. \nTuesday Evenings 7pm – 8pm \nCall Maria on 07957 613516
URL:https://epca.org.uk/event/zumba-with-maria-3/
LOCATION:ELM PARK COMMUNITY ASSOCIATION\, 108 EYHURST AVENUE\, ELM PARK\, ESSEX\, RM12 4RA
END:VEVENT
BEGIN:VEVENT
DTSTART;TZID=UTC:20240701T173000
DTEND;TZID=UTC:20240701T203000
DTSTAMP:20260425T162639
CREATED:20240618T155250Z
LAST-MODIFIED:20240618T155250Z
UID:451-1719855000-1719865800@epca.org.uk
SUMMARY:KAICHOU KAI KARATE
DESCRIPTION:Kaichou Kai – Strength in Unity – Together we support\, encourage and help each other to reach our goals! \nNo matter what your physical fitness level is\, you can rely on our experienced instructors to teach you martial arts skills and techniques\, from the most basic self-defence methods to advanced fighting techniques. \nAnyone aged 5 years or above can learn karate step by step. \nWe are affiliates of both Karate England and the World United Karate Federation. \nSuitable for all levels of ability. \nMonday & Wednesday \n\n5.30-6.30pm: Children Beginners under 10 years\n6.30pm – 7.30pm: Children beginners & Intermediate under 12 years\n7.15pm – 8.15pm: Advanced & beginners\, all ages 13 years plus\n\nInstructor: Moira Barber – 8th Dan \nVisit our Website at www.kaichoukaikarate.co.uk  \nFor more information please call Sensei Moira Barber on 07779 237 344 \nor alternative please email moirabarber@kaichoukaikarate.co.uk 
URL:https://epca.org.uk/event/kaichou-kai-karate-4/
LOCATION:ELM PARK COMMUNITY ASSOCIATION\, 108 EYHURST AVENUE\, ELM PARK\, ESSEX\, RM12 4RA
END:VEVENT
BEGIN:VEVENT
DTSTART;TZID=UTC:20240701T163000
DTEND;TZID=UTC:20240701T183000
DTSTAMP:20260425T162639
CREATED:20240618T160937Z
LAST-MODIFIED:20240618T160937Z
UID:494-1719851400-1719858600@epca.org.uk
SUMMARY:SCHOLARS TUITION
DESCRIPTION:We are a tuition centre with branches located across East London offering Maths\, English & Science classes From Primary school all the way up to A-Levels. With a unique & tailored one-to-one support establishes a strong foundation to master a topic of any subject with results evident in school progress and homeworks. \nWe adhere to the traditional “pen to paper” teaching approach\, providing all students with resources and booklets that are included in your fees. Say goodbye to screens. \nOur branches are located in Elm Park\, Romford\, Goodmayes\, Forest Gate & Manor Park. \nOur Elm Park branch is located at the Elm Park Assembly Hall RM12 4RA on: \nMondays & Wednesdays 4.30-6.30pm and Saturdays 2-6pm. \nBOOK A TASTER SESSION NOW!  by calling us on 073 087 44466. \nWebsite: www.scholarstuition.com \nInstagram: @scholarstuition
URL:https://epca.org.uk/event/scholars-tuition-5/
LOCATION:ELM PARK COMMUNITY ASSOCIATION\, 108 EYHURST AVENUE\, ELM PARK\, ESSEX\, RM12 4RA
END:VEVENT
BEGIN:VEVENT
DTSTART;TZID=UTC:20240630T140000
DTEND;TZID=UTC:20240630T180000
DTSTAMP:20260425T162639
CREATED:20240618T163417Z
LAST-MODIFIED:20240618T163417Z
UID:536-1719756000-1719770400@epca.org.uk
SUMMARY:ARISE METROPOLITAN ASSEMBLY
DESCRIPTION:We are a fivefold congregation where the priesthood of all believers is a reality. Apostles\, Prophets\, Evangelists\, Pastors and Teachers work together with Intercessors and Deacons to create the enabling environment for manifestation of Kingdom Culture as a lifestyle. \nOur Sunday Service  are so engaging and impactful! Each service is preceded by an hour of Prayer by Ministers and Intercessors. Twice a month\, the next item is either exhortations by Younger Ministers and brethren or School of Life which is a time the Congregation breaks into small groups for deeper study of the word in a life application context. Praise and Worship follows where saints can flow as Holy Spirit leads them. This is followed by Testimonies of the goodness of God given by those who wish. Ministers take turns to bring the Word or Message from the Lord for about 30 minutes. Announcements and Offerings follow. Thereafter\, we have time for Body Ministry where the Ministers pray individually for the saints. Right after service\, we share a community meal or snacks and drinks in what is called Fellowship of the table. We also celebrate birthdays of brethren. \nSunday Afternoon 2pm – 6pm  \n\nSupport: +44-7595-022872\nEmail: info@arisemetro.org
URL:https://epca.org.uk/event/arise-metropolitan-assembly-2/
LOCATION:ELM PARK COMMUNITY ASSOCIATION\, 108 EYHURST AVENUE\, ELM PARK\, ESSEX\, RM12 4RA
END:VEVENT
BEGIN:VEVENT
DTSTART;TZID=UTC:20240629T140000
DTEND;TZID=UTC:20240629T180000
DTSTAMP:20260425T162639
CREATED:20240618T160903Z
LAST-MODIFIED:20240618T160903Z
UID:492-1719669600-1719684000@epca.org.uk
SUMMARY:SCHOLARS TUITION
DESCRIPTION:We are a tuition centre with branches located across East London offering Maths\, English & Science classes From Primary school all the way up to A-Levels. With a unique & tailored one-to-one support establishes a strong foundation to master a topic of any subject with results evident in school progress and homeworks. \nWe adhere to the traditional “pen to paper” teaching approach\, providing all students with resources and booklets that are included in your fees. Say goodbye to screens. \nOur branches are located in Elm Park\, Romford\, Goodmayes\, Forest Gate & Manor Park. \nOur Elm Park branch is located at the Elm Park Assembly Hall RM12 4RA on: \nMondays & Wednesdays 4.30-6.30pm and Saturdays 2-6pm. \nBOOK A TASTER SESSION NOW!  by calling us on 073 087 44466. \nWebsite: www.scholarstuition.com \nInstagram: @scholarstuition
URL:https://epca.org.uk/event/scholars-tuition-4/
LOCATION:ELM PARK COMMUNITY ASSOCIATION\, 108 EYHURST AVENUE\, ELM PARK\, ESSEX\, RM12 4RA
END:VEVENT
BEGIN:VEVENT
DTSTART;TZID=UTC:20240629T100000
DTEND;TZID=UTC:20240629T130000
DTSTAMP:20260425T162639
CREATED:20240521T162120Z
LAST-MODIFIED:20240521T162120Z
UID:306-1719655200-1719666000@epca.org.uk
SUMMARY:Summer Funday!
DESCRIPTION:
URL:https://epca.org.uk/event/summer-funday/
LOCATION:ELM PARK COMMUNITY ASSOCIATION\, 108 EYHURST AVENUE\, ELM PARK\, ESSEX\, RM12 4RA
END:VEVENT
BEGIN:VEVENT
DTSTART;TZID=UTC:20240628T123000
DTEND;TZID=UTC:20240628T143000
DTSTAMP:20260425T162639
CREATED:20240618T162544Z
LAST-MODIFIED:20240618T162544Z
UID:524-1719577800-1719585000@epca.org.uk
SUMMARY:DARUL UMMAH FRIDAY PRAYERS
DESCRIPTION:Jumu’ah (Friday) Prayer Timings\n\n\n\n\n1st Khutbah: 12:45 \n2nd Khutbah: 13:10 \nLocation: \nElm Park Assembly Hall (Annexe Hall)\, 108 Eyhurst Avenue\, RM12 4RA \nDarul Ummah Hornchurch (duhornchurch.org.uk) 
URL:https://epca.org.uk/event/darul-ummah-friday-prayers-2/
LOCATION:ELM PARK COMMUNITY ASSOCIATION\, 108 EYHURST AVENUE\, ELM PARK\, ESSEX\, RM12 4RA
END:VEVENT
BEGIN:VEVENT
DTSTART;TZID=UTC:20240627T163000
DTEND;TZID=UTC:20240627T183000
DTSTAMP:20260425T162639
CREATED:20240618T160223Z
LAST-MODIFIED:20240618T160223Z
UID:473-1719505800-1719513000@epca.org.uk
SUMMARY:FIRST CLASS LEARNING
DESCRIPTION:We offer Maths and English tuition that builds skills\, confidence and a passion for learning. We also offer Science tuition starting from year 6 through to year 9 preparing students to excel at GCSE sciences. \nWe are aligned to the National Curriculum ensuring you will see improvement at school and in their homework. We deliver our tailored and individualised tuition through printed worksheets and handbooks\, which is so much more effective than yet more screen time. \nWe have centres across Upminster and Hornchurch\, including here at Elm Park Assembly Hall\, open Thursday evening from 4.00 pm to 6.00 pm. \n​Contact us for a FREE Skills Assessment. \nCall 07710 392 503 \nwww.firstclasslearning.co.uk/upminster\nwww.firstclasslearning.co.uk/hornchurch\nwww.firstclasslearning.co.uk/elmpark
URL:https://epca.org.uk/event/first-class-learning-2/
LOCATION:ELM PARK COMMUNITY ASSOCIATION\, 108 EYHURST AVENUE\, ELM PARK\, ESSEX\, RM12 4RA
END:VEVENT
BEGIN:VEVENT
DTSTART;TZID=UTC:20240626T173000
DTEND;TZID=UTC:20240626T203000
DTSTAMP:20260425T162639
CREATED:20240618T155220Z
LAST-MODIFIED:20240618T155220Z
UID:449-1719423000-1719433800@epca.org.uk
SUMMARY:KAICHOU KAI KARATE
DESCRIPTION:Kaichou Kai – Strength in Unity – Together we support\, encourage and help each other to reach our goals! \nNo matter what your physical fitness level is\, you can rely on our experienced instructors to teach you martial arts skills and techniques\, from the most basic self-defence methods to advanced fighting techniques. \nAnyone aged 5 years or above can learn karate step by step. \nWe are affiliates of both Karate England and the World United Karate Federation. \nSuitable for all levels of ability. \nMonday & Wednesday \n\n5.30-6.30pm: Children Beginners under 10 years\n6.30pm – 7.30pm: Children beginners & Intermediate under 12 years\n7.15pm – 8.15pm: Advanced & beginners\, all ages 13 years plus\n\nInstructor: Moira Barber – 8th Dan \nVisit our Website at www.kaichoukaikarate.co.uk  \nFor more information please call Sensei Moira Barber on 07779 237 344 \nor alternative please email moirabarber@kaichoukaikarate.co.uk 
URL:https://epca.org.uk/event/kaichou-kai-karate-3/
LOCATION:ELM PARK COMMUNITY ASSOCIATION\, 108 EYHURST AVENUE\, ELM PARK\, ESSEX\, RM12 4RA
END:VEVENT
BEGIN:VEVENT
DTSTART;TZID=UTC:20240626T163000
DTEND;TZID=UTC:20240626T183000
DTSTAMP:20260425T162639
CREATED:20240618T160831Z
LAST-MODIFIED:20240618T160831Z
UID:490-1719419400-1719426600@epca.org.uk
SUMMARY:SCHOLARS TUITION
DESCRIPTION:We are a tuition centre with branches located across East London offering Maths\, English & Science classes From Primary school all the way up to A-Levels. With a unique & tailored one-to-one support establishes a strong foundation to master a topic of any subject with results evident in school progress and homeworks. \nWe adhere to the traditional “pen to paper” teaching approach\, providing all students with resources and booklets that are included in your fees. Say goodbye to screens. \nOur branches are located in Elm Park\, Romford\, Goodmayes\, Forest Gate & Manor Park. \nOur Elm Park branch is located at the Elm Park Assembly Hall RM12 4RA on: \nMondays & Wednesdays 4.30-6.30pm and Saturdays 2-6pm. \nBOOK A TASTER SESSION NOW!  by calling us on 073 087 44466. \nWebsite: www.scholarstuition.com \nInstagram: @scholarstuition
URL:https://epca.org.uk/event/scholars-tuition-3/
LOCATION:ELM PARK COMMUNITY ASSOCIATION\, 108 EYHURST AVENUE\, ELM PARK\, ESSEX\, RM12 4RA
END:VEVENT
BEGIN:VEVENT
DTSTART;TZID=UTC:20240625T190000
DTEND;TZID=UTC:20240625T200000
DTSTAMP:20260425T162639
CREATED:20240618T154700Z
LAST-MODIFIED:20240618T154700Z
UID:435-1719342000-1719345600@epca.org.uk
SUMMARY:ZUMBA WITH MARIA
DESCRIPTION:Perfect for everybody and every body! Each Zumba® class is designed to bring people together to sweat it on. \nWe take the “work” out of workout\, by mixing low-intensity and high-intensity moves for an interval-style\, calorie-burning dance fitness party. Once the Latin and World rhythms take over\, you’ll see why Zumba® Fitness classes are often called exercise in disguise. Super effective? Check. Super fun? Check and check. \nA total workout\, combining all elements of fitness – cardio\, muscle conditioning\, balance and flexibility\, boosted energy and a serious dose of awesome each time you leave class. \nTuesday Evenings 7pm – 8pm \nCall Maria on 07957 613516
URL:https://epca.org.uk/event/zumba-with-maria-2/
LOCATION:ELM PARK COMMUNITY ASSOCIATION\, 108 EYHURST AVENUE\, ELM PARK\, ESSEX\, RM12 4RA
END:VEVENT
BEGIN:VEVENT
DTSTART;TZID=UTC:20240624T173000
DTEND;TZID=UTC:20240624T203000
DTSTAMP:20260425T162639
CREATED:20240618T155143Z
LAST-MODIFIED:20240618T155143Z
UID:447-1719250200-1719261000@epca.org.uk
SUMMARY:KAICHOU KAI KARATE
DESCRIPTION:Kaichou Kai – Strength in Unity – Together we support\, encourage and help each other to reach our goals! \nNo matter what your physical fitness level is\, you can rely on our experienced instructors to teach you martial arts skills and techniques\, from the most basic self-defence methods to advanced fighting techniques. \nAnyone aged 5 years or above can learn karate step by step. \nWe are affiliates of both Karate England and the World United Karate Federation. \nSuitable for all levels of ability. \nMonday & Wednesday \n\n5.30-6.30pm: Children Beginners under 10 years\n6.30pm – 7.30pm: Children beginners & Intermediate under 12 years\n7.15pm – 8.15pm: Advanced & beginners\, all ages 13 years plus\n\nInstructor: Moira Barber – 8th Dan \nVisit our Website at www.kaichoukaikarate.co.uk  \nFor more information please call Sensei Moira Barber on 07779 237 344 \nor alternative please email moirabarber@kaichoukaikarate.co.uk 
URL:https://epca.org.uk/event/kaichou-kai-karate-2/
LOCATION:ELM PARK COMMUNITY ASSOCIATION\, 108 EYHURST AVENUE\, ELM PARK\, ESSEX\, RM12 4RA
END:VEVENT
BEGIN:VEVENT
DTSTART;TZID=UTC:20240624T163000
DTEND;TZID=UTC:20240624T183000
DTSTAMP:20260425T162639
CREATED:20240618T160746Z
LAST-MODIFIED:20240618T160746Z
UID:488-1719246600-1719253800@epca.org.uk
SUMMARY:SCHOLARS TUITION
DESCRIPTION:We are a tuition centre with branches located across East London offering Maths\, English & Science classes From Primary school all the way up to A-Levels. With a unique & tailored one-to-one support establishes a strong foundation to master a topic of any subject with results evident in school progress and homeworks. \nWe adhere to the traditional “pen to paper” teaching approach\, providing all students with resources and booklets that are included in your fees. Say goodbye to screens. \nOur branches are located in Elm Park\, Romford\, Goodmayes\, Forest Gate & Manor Park. \nOur Elm Park branch is located at the Elm Park Assembly Hall RM12 4RA on: \nMondays & Wednesdays 4.30-6.30pm and Saturdays 2-6pm. \nBOOK A TASTER SESSION NOW!  by calling us on 073 087 44466. \nWebsite: www.scholarstuition.com \nInstagram: @scholarstuition
URL:https://epca.org.uk/event/scholars-tuition-2/
LOCATION:ELM PARK COMMUNITY ASSOCIATION\, 108 EYHURST AVENUE\, ELM PARK\, ESSEX\, RM12 4RA
END:VEVENT
BEGIN:VEVENT
DTSTART;TZID=UTC:20240623T140000
DTEND;TZID=UTC:20240623T180000
DTSTAMP:20260425T162639
CREATED:20240618T163313Z
LAST-MODIFIED:20240618T163313Z
UID:534-1719151200-1719165600@epca.org.uk
SUMMARY:ARISE METROPOLITAN ASSEMBLY
DESCRIPTION:We are a fivefold congregation where the priesthood of all believers is a reality. Apostles\, Prophets\, Evangelists\, Pastors and Teachers work together with Intercessors and Deacons to create the enabling environment for manifestation of Kingdom Culture as a lifestyle. \nOur Sunday Service  are so engaging and impactful! Each service is preceded by an hour of Prayer by Ministers and Intercessors. Twice a month\, the next item is either exhortations by Younger Ministers and brethren or School of Life which is a time the Congregation breaks into small groups for deeper study of the word in a life application context. Praise and Worship follows where saints can flow as Holy Spirit leads them. This is followed by Testimonies of the goodness of God given by those who wish. Ministers take turns to bring the Word or Message from the Lord for about 30 minutes. Announcements and Offerings follow. Thereafter\, we have time for Body Ministry where the Ministers pray individually for the saints. Right after service\, we share a community meal or snacks and drinks in what is called Fellowship of the table. We also celebrate birthdays of brethren. \nSunday Afternoon 2pm – 6pm  \n\nSupport: +44-7595-022872\nEmail: info@arisemetro.org
URL:https://epca.org.uk/event/arise-metropolitan-assembly/
LOCATION:ELM PARK COMMUNITY ASSOCIATION\, 108 EYHURST AVENUE\, ELM PARK\, ESSEX\, RM12 4RA
END:VEVENT
BEGIN:VEVENT
DTSTART;TZID=UTC:20240622T140000
DTEND;TZID=UTC:20240622T180000
DTSTAMP:20260425T162639
CREATED:20240618T160720Z
LAST-MODIFIED:20240618T160720Z
UID:486-1719064800-1719079200@epca.org.uk
SUMMARY:SCHOLARS TUITION
DESCRIPTION:We are a tuition centre with branches located across East London offering Maths\, English & Science classes From Primary school all the way up to A-Levels. With a unique & tailored one-to-one support establishes a strong foundation to master a topic of any subject with results evident in school progress and homeworks. \nWe adhere to the traditional “pen to paper” teaching approach\, providing all students with resources and booklets that are included in your fees. Say goodbye to screens. \nOur branches are located in Elm Park\, Romford\, Goodmayes\, Forest Gate & Manor Park. \nOur Elm Park branch is located at the Elm Park Assembly Hall RM12 4RA on: \nMondays & Wednesdays 4.30-6.30pm and Saturdays 2-6pm. \nBOOK A TASTER SESSION NOW!  by calling us on 073 087 44466. \nWebsite: www.scholarstuition.com \nInstagram: @scholarstuition
URL:https://epca.org.uk/event/scholars-tuition/
LOCATION:ELM PARK COMMUNITY ASSOCIATION\, 108 EYHURST AVENUE\, ELM PARK\, ESSEX\, RM12 4RA
END:VEVENT
BEGIN:VEVENT
DTSTART;TZID=UTC:20240621T123000
DTEND;TZID=UTC:20240621T143000
DTSTAMP:20260425T162639
CREATED:20240618T162510Z
LAST-MODIFIED:20240618T162510Z
UID:522-1718973000-1718980200@epca.org.uk
SUMMARY:DARUL UMMAH FRIDAY PRAYERS
DESCRIPTION:Jumu’ah (Friday) Prayer Timings\n\n\n\n\n1st Khutbah: 12:45 \n2nd Khutbah: 13:10 \nLocation: \nElm Park Assembly Hall (Annexe Hall)\, 108 Eyhurst Avenue\, RM12 4RA \nDarul Ummah Hornchurch (duhornchurch.org.uk) 
URL:https://epca.org.uk/event/darul-ummah-friday-prayers/
LOCATION:ELM PARK COMMUNITY ASSOCIATION\, 108 EYHURST AVENUE\, ELM PARK\, ESSEX\, RM12 4RA
END:VEVENT
BEGIN:VEVENT
DTSTART;TZID=UTC:20240620T163000
DTEND;TZID=UTC:20240620T183000
DTSTAMP:20260425T162639
CREATED:20240618T160144Z
LAST-MODIFIED:20240618T160144Z
UID:471-1718901000-1718908200@epca.org.uk
SUMMARY:FIRST CLASS LEARNING
DESCRIPTION:We offer Maths and English tuition that builds skills\, confidence and a passion for learning. We also offer Science tuition starting from year 6 through to year 9 preparing students to excel at GCSE sciences. \nWe are aligned to the National Curriculum ensuring you will see improvement at school and in their homework. We deliver our tailored and individualised tuition through printed worksheets and handbooks\, which is so much more effective than yet more screen time. \nWe have centres across Upminster and Hornchurch\, including here at Elm Park Assembly Hall\, open Thursday evening from 4.00 pm to 6.00 pm. \n​Contact us for a FREE Skills Assessment. \nCall 07710 392 503 \nwww.firstclasslearning.co.uk/upminster\nwww.firstclasslearning.co.uk/hornchurch\nwww.firstclasslearning.co.uk/elmpark
URL:https://epca.org.uk/event/first-class-learning/
LOCATION:ELM PARK COMMUNITY ASSOCIATION\, 108 EYHURST AVENUE\, ELM PARK\, ESSEX\, RM12 4RA
END:VEVENT
BEGIN:VEVENT
DTSTART;TZID=UTC:20240619T173000
DTEND;TZID=UTC:20240619T203000
DTSTAMP:20260425T162639
CREATED:20240618T155112Z
LAST-MODIFIED:20240618T155112Z
UID:445-1718818200-1718829000@epca.org.uk
SUMMARY:KAICHOU KAI KARATE
DESCRIPTION:Kaichou Kai – Strength in Unity – Together we support\, encourage and help each other to reach our goals! \nNo matter what your physical fitness level is\, you can rely on our experienced instructors to teach you martial arts skills and techniques\, from the most basic self-defence methods to advanced fighting techniques. \nAnyone aged 5 years or above can learn karate step by step. \nWe are affiliates of both Karate England and the World United Karate Federation. \nSuitable for all levels of ability. \nMonday & Wednesday \n\n5.30-6.30pm: Children Beginners under 10 years\n6.30pm – 7.30pm: Children beginners & Intermediate under 12 years\n7.15pm – 8.15pm: Advanced & beginners\, all ages 13 years plus\n\nInstructor: Moira Barber – 8th Dan \nVisit our Website at www.kaichoukaikarate.co.uk  \nFor more information please call Sensei Moira Barber on 07779 237 344 \nor alternative please email moirabarber@kaichoukaikarate.co.uk 
URL:https://epca.org.uk/event/kaichou-kai-karate/
LOCATION:ELM PARK COMMUNITY ASSOCIATION\, 108 EYHURST AVENUE\, ELM PARK\, ESSEX\, RM12 4RA
END:VEVENT
BEGIN:VEVENT
DTSTART;TZID=UTC:20240619T163000
DTEND;TZID=UTC:20240619T183000
DTSTAMP:20260425T162639
CREATED:20240618T160640Z
LAST-MODIFIED:20240618T160652Z
UID:483-1718814600-1718821800@epca.org.uk
SUMMARY:SCHOLARS TUITION
DESCRIPTION:We are a tuition centre with branches located across East London offering Maths\, English & Science classes From Primary school all the way up to A-Levels. With a unique & tailored one-to-one support establishes a strong foundation to master a topic of any subject with results evident in school progress and homeworks. \nWe adhere to the traditional “pen to paper” teaching approach\, providing all students with resources and booklets that are included in your fees. Say goodbye to screens. \nOur branches are located in Elm Park\, Romford\, Goodmayes\, Forest Gate & Manor Park. \nOur Elm Park branch is located at the Elm Park Assembly Hall RM12 4RA on: \nMondays & Wednesdays 4.30-6.30pm and Saturdays 2-6pm. \nBOOK A TASTER SESSION NOW!  by calling us on 073 087 44466. \nWebsite: www.scholarstuition.com \nInstagram: @scholarstuition
URL:https://epca.org.uk/event/483/
LOCATION:ESSEX
END:VEVENT
BEGIN:VEVENT
DTSTART;TZID=UTC:20240618T190000
DTEND;TZID=UTC:20240618T200000
DTSTAMP:20260425T162639
CREATED:20240618T154628Z
LAST-MODIFIED:20240618T154628Z
UID:432-1718737200-1718740800@epca.org.uk
SUMMARY:ZUMBA WITH MARIA
DESCRIPTION:Perfect for everybody and every body! Each Zumba® class is designed to bring people together to sweat it on. \nWe take the “work” out of workout\, by mixing low-intensity and high-intensity moves for an interval-style\, calorie-burning dance fitness party. Once the Latin and World rhythms take over\, you’ll see why Zumba® Fitness classes are often called exercise in disguise. Super effective? Check. Super fun? Check and check. \nA total workout\, combining all elements of fitness – cardio\, muscle conditioning\, balance and flexibility\, boosted energy and a serious dose of awesome each time you leave class. \nTuesday Evenings 7pm – 8pm \nCall Maria on 07957 613516
URL:https://epca.org.uk/event/zumba-with-maria/
LOCATION:ELM PARK COMMUNITY ASSOCIATION\, 108 EYHURST AVENUE\, ELM PARK\, ESSEX\, RM12 4RA
END:VEVENT
BEGIN:VEVENT
DTSTART;TZID=UTC:20240525T100000
DTEND;TZID=UTC:20240525T130000
DTSTAMP:20260425T162639
CREATED:20240220T174446Z
LAST-MODIFIED:20240220T174446Z
UID:299-1716631200-1716642000@epca.org.uk
SUMMARY:INDOOR BOOT SALE
DESCRIPTION:
URL:https://epca.org.uk/event/indoor-boot-sale-3/
LOCATION:ELM PARK COMMUNITY ASSOCIATION\, 108 EYHURST AVENUE\, ELM PARK\, ESSEX\, RM12 4RA
END:VEVENT
BEGIN:VEVENT
DTSTART;TZID=UTC:20240427T100000
DTEND;TZID=UTC:20240427T130000
DTSTAMP:20260425T162639
CREATED:20240220T174405Z
LAST-MODIFIED:20240220T174405Z
UID:296-1714212000-1714222800@epca.org.uk
SUMMARY:INDOOR BOOT SALE
DESCRIPTION:
URL:https://epca.org.uk/event/indoor-boot-sale-2/
LOCATION:ELM PARK COMMUNITY ASSOCIATION\, 108 EYHURST AVENUE\, ELM PARK\, ESSEX\, RM12 4RA
END:VEVENT
BEGIN:VEVENT
DTSTART;TZID=UTC:20240330T100000
DTEND;TZID=UTC:20240330T130000
DTSTAMP:20260425T162639
CREATED:20240220T174022Z
LAST-MODIFIED:20240220T174022Z
UID:290-1711792800-1711803600@epca.org.uk
SUMMARY:Spring Craft Fair
DESCRIPTION:We are delighted to be holding our first Craft and Business event of the year on Saturday 30th March 2024 between 10am – 1pm \nIf you would like to have a stall please email info@epca.org.uk
URL:https://epca.org.uk/event/spring-craft-fair/
LOCATION:ELM PARK COMMUNITY ASSOCIATION\, 108 EYHURST AVENUE\, ELM PARK\, ESSEX\, RM12 4RA
END:VEVENT
BEGIN:VEVENT
DTSTART;TZID=UTC:20240315T190000
DTEND;TZID=UTC:20240315T220000
DTSTAMP:20260425T162639
CREATED:20240216T164642Z
LAST-MODIFIED:20240216T164642Z
UID:219-1710529200-1710540000@epca.org.uk
SUMMARY:AN EVENING OF MEDIUMSHIP WITH BECS
DESCRIPTION:Elm Park Community Association are proud to present an evening of mediumship with Becs!\nWe are pleased to bring an alternative fundraising event to the hall because anyone who knows anything\, knows that Becs is spot on!\nTickets are in advance by pre-booking only at £20pp\, via DKHandmade2463@outlook.com\nDoors open at 7pm\, with the evening commencing at 7.30pm\, there will be Refreshments available on the evening to purchase.
URL:https://epca.org.uk/event/an-evening-of-mediumship-with-becs/
LOCATION:ELM PARK COMMUNITY ASSOCIATION\, 108 EYHURST AVENUE\, ELM PARK\, ESSEX\, RM12 4RA
END:VEVENT
BEGIN:VEVENT
DTSTART;TZID=UTC:20240224T100000
DTEND;TZID=UTC:20240224T130000
DTSTAMP:20260425T162639
CREATED:20240220T174104Z
LAST-MODIFIED:20240220T174104Z
UID:293-1708768800-1708779600@epca.org.uk
SUMMARY:Indoor Boot Sale
DESCRIPTION:
URL:https://epca.org.uk/event/indoor-boot-sale/
LOCATION:ELM PARK COMMUNITY ASSOCIATION\, 108 EYHURST AVENUE\, ELM PARK\, ESSEX\, RM12 4RA
END:VEVENT
END:VCALENDAR