BEGIN:VCALENDAR
VERSION:2.0
PRODID:-//Elm Park Community Association - ECPv6.3.2//NONSGML v1.0//EN
CALSCALE:GREGORIAN
METHOD:PUBLISH
X-WR-CALNAME:Elm Park Community Association
X-ORIGINAL-URL:https://epca.org.uk
X-WR-CALDESC:Events for Elm Park Community Association
REFRESH-INTERVAL;VALUE=DURATION:PT1H
X-Robots-Tag:noindex
X-PUBLISHED-TTL:PT1H
BEGIN:VTIMEZONE
TZID:UTC
BEGIN:STANDARD
TZOFFSETFROM:+0000
TZOFFSETTO:+0000
TZNAME:UTC
DTSTART:20240101T000000
END:STANDARD
END:VTIMEZONE
BEGIN:VEVENT
DTSTART;TZID=UTC:20250716T100000
DTEND;TZID=UTC:20250716T130000
DTSTAMP:20260424T085435
CREATED:20250612T140210Z
LAST-MODIFIED:20250612T140210Z
UID:790-1752660000-1752670800@epca.org.uk
SUMMARY:ELM PARK SOCIAL SESSION
DESCRIPTION:
URL:https://epca.org.uk/event/elm-park-social-session-16/
LOCATION:ELM PARK COMMUNITY ASSOCIATION\, 108 EYHURST AVENUE\, ELM PARK\, ESSEX\, RM12 4RA
END:VEVENT
BEGIN:VEVENT
DTSTART;TZID=UTC:20250715T190000
DTEND;TZID=UTC:20250715T200000
DTSTAMP:20260424T085435
CREATED:20250612T160559Z
LAST-MODIFIED:20250612T160559Z
UID:944-1752606000-1752609600@epca.org.uk
SUMMARY:ZUMBA WITH MARIA
DESCRIPTION:Perfect for everybody and every body! Each Zumba® class is designed to bring people together to sweat it on. \nWe take the “work” out of workout\, by mixing low-intensity and high-intensity moves for an interval-style\, calorie-burning dance fitness party. Once the Latin and World rhythms take over\, you’ll see why Zumba® Fitness classes are often called exercise in disguise. Super effective? Check. Super fun? Check and check. \nA total workout\, combining all elements of fitness – cardio\, muscle conditioning\, balance and flexibility\, boosted energy and a serious dose of awesome each time you leave class. \nTuesday Evenings 7pm – 8pm \nCall Maria on 07957 613516
URL:https://epca.org.uk/event/zumba-with-maria-17/
LOCATION:ELM PARK COMMUNITY ASSOCIATION\, 108 EYHURST AVENUE\, ELM PARK\, ESSEX\, RM12 4RA
END:VEVENT
BEGIN:VEVENT
DTSTART;TZID=UTC:20250714T180000
DTEND;TZID=UTC:20250714T200000
DTSTAMP:20260424T085435
CREATED:20250612T142727Z
LAST-MODIFIED:20250612T142727Z
UID:856-1752516000-1752523200@epca.org.uk
SUMMARY:KAICHOU KAI KARATE
DESCRIPTION:Kaichou Kai – Strength in Unity – Together we support\, encourage and help each other to reach our goals! \nNo matter what your physical fitness level is\, you can rely on our experienced instructors to teach you martial arts skills and techniques\, from the most basic self-defence methods to advanced fighting techniques. \nAnyone aged 5 years or above can learn karate step by step. \nWe are affiliates of both Karate England and the World United Karate Federation. \nSuitable for all levels of ability. \nMonday & Wednesday \n\n6pm-7pm : Children Beginners under 10 years\n7pm – 8pm: Advanced & beginners\, all ages 13 years plus\n\nInstructor: Moira Barber – 8th Dan \nVisit our Website at https://kaichoukaikarate.co.uk/ \nFor more information please call Sensei Moira Barber on 07779 237 344 \nor alternative please email moirabarber@kaichoukaikarate.co.uk 
URL:https://epca.org.uk/event/kaichou-kai-karate-22/
LOCATION:ELM PARK COMMUNITY ASSOCIATION\, 108 EYHURST AVENUE\, ELM PARK\, ESSEX\, RM12 4RA
END:VEVENT
BEGIN:VEVENT
DTSTART;TZID=UTC:20250710T160000
DTEND;TZID=UTC:20250710T180000
DTSTAMP:20260424T085435
CREATED:20250612T162303Z
LAST-MODIFIED:20250612T162303Z
UID:980-1752163200-1752170400@epca.org.uk
SUMMARY:FIRST CLASS LEARNING
DESCRIPTION:We offer Maths and English tuition that builds skills\, confidence and a passion for learning. We also offer Science tuition starting from year 6 through to year 9 preparing students to excel at GCSE sciences. \nWe are aligned to the National Curriculum ensuring you will see improvement at school and in their homework. We deliver our tailored and individualised tuition through printed worksheets and handbooks\, which is so much more effective than yet more screen time. \nWe have centres across Upminster and Hornchurch\, including here at Elm Park Assembly Hall\, open Thursday evening from 4.00 pm to 6.00 pm. \n​Contact us for a FREE Skills Assessment. \nCall 07710 392 503 \nwww.firstclasslearning.co.uk/upminster\nwww.firstclasslearning.co.uk/hornchurch\nwww.firstclasslearning.co.uk/elmpark
URL:https://epca.org.uk/event/first-class-learning-9/
LOCATION:ELM PARK COMMUNITY ASSOCIATION\, 108 EYHURST AVENUE\, ELM PARK\, ESSEX\, RM12 4RA
END:VEVENT
BEGIN:VEVENT
DTSTART;TZID=UTC:20250709T180000
DTEND;TZID=UTC:20250709T200000
DTSTAMP:20260424T085435
CREATED:20250612T142655Z
LAST-MODIFIED:20250612T142655Z
UID:854-1752084000-1752091200@epca.org.uk
SUMMARY:KAICHOU KAI KARATE
DESCRIPTION:Kaichou Kai – Strength in Unity – Together we support\, encourage and help each other to reach our goals! \nNo matter what your physical fitness level is\, you can rely on our experienced instructors to teach you martial arts skills and techniques\, from the most basic self-defence methods to advanced fighting techniques. \nAnyone aged 5 years or above can learn karate step by step. \nWe are affiliates of both Karate England and the World United Karate Federation. \nSuitable for all levels of ability. \nMonday & Wednesday \n\n6pm-7pm : Children Beginners under 10 years\n7pm – 8pm: Advanced & beginners\, all ages 13 years plus\n\nInstructor: Moira Barber – 8th Dan \nVisit our Website at https://kaichoukaikarate.co.uk/ \nFor more information please call Sensei Moira Barber on 07779 237 344 \nor alternative please email moirabarber@kaichoukaikarate.co.uk 
URL:https://epca.org.uk/event/kaichou-kai-karate-21/
LOCATION:ELM PARK COMMUNITY ASSOCIATION\, 108 EYHURST AVENUE\, ELM PARK\, ESSEX\, RM12 4RA
END:VEVENT
BEGIN:VEVENT
DTSTART;TZID=UTC:20250709T100000
DTEND;TZID=UTC:20250709T130000
DTSTAMP:20260424T085435
CREATED:20250612T140139Z
LAST-MODIFIED:20250612T140139Z
UID:788-1752055200-1752066000@epca.org.uk
SUMMARY:ELM PARK SOCIAL SESSION
DESCRIPTION:
URL:https://epca.org.uk/event/elm-park-social-session-15/
LOCATION:ELM PARK COMMUNITY ASSOCIATION\, 108 EYHURST AVENUE\, ELM PARK\, ESSEX\, RM12 4RA
END:VEVENT
BEGIN:VEVENT
DTSTART;TZID=UTC:20250708T190000
DTEND;TZID=UTC:20250708T200000
DTSTAMP:20260424T085435
CREATED:20250612T160535Z
LAST-MODIFIED:20250612T160535Z
UID:942-1752001200-1752004800@epca.org.uk
SUMMARY:ZUMBA WITH MARIA
DESCRIPTION:Perfect for everybody and every body! Each Zumba® class is designed to bring people together to sweat it on. \nWe take the “work” out of workout\, by mixing low-intensity and high-intensity moves for an interval-style\, calorie-burning dance fitness party. Once the Latin and World rhythms take over\, you’ll see why Zumba® Fitness classes are often called exercise in disguise. Super effective? Check. Super fun? Check and check. \nA total workout\, combining all elements of fitness – cardio\, muscle conditioning\, balance and flexibility\, boosted energy and a serious dose of awesome each time you leave class. \nTuesday Evenings 7pm – 8pm \nCall Maria on 07957 613516
URL:https://epca.org.uk/event/zumba-with-maria-16/
LOCATION:ELM PARK COMMUNITY ASSOCIATION\, 108 EYHURST AVENUE\, ELM PARK\, ESSEX\, RM12 4RA
END:VEVENT
BEGIN:VEVENT
DTSTART;TZID=UTC:20250707T180000
DTEND;TZID=UTC:20250707T200000
DTSTAMP:20260424T085435
CREATED:20250612T142616Z
LAST-MODIFIED:20250612T142616Z
UID:852-1751911200-1751918400@epca.org.uk
SUMMARY:KAICHOU KAI KARATE
DESCRIPTION:Kaichou Kai – Strength in Unity – Together we support\, encourage and help each other to reach our goals! \nNo matter what your physical fitness level is\, you can rely on our experienced instructors to teach you martial arts skills and techniques\, from the most basic self-defence methods to advanced fighting techniques. \nAnyone aged 5 years or above can learn karate step by step. \nWe are affiliates of both Karate England and the World United Karate Federation. \nSuitable for all levels of ability. \nMonday & Wednesday \n\n6pm-7pm : Children Beginners under 10 years\n7pm – 8pm: Advanced & beginners\, all ages 13 years plus\n\nInstructor: Moira Barber – 8th Dan \nVisit our Website at https://kaichoukaikarate.co.uk/ \nFor more information please call Sensei Moira Barber on 07779 237 344 \nor alternative please email moirabarber@kaichoukaikarate.co.uk 
URL:https://epca.org.uk/event/kaichou-kai-karate-20/
LOCATION:ELM PARK COMMUNITY ASSOCIATION\, 108 EYHURST AVENUE\, ELM PARK\, ESSEX\, RM12 4RA
END:VEVENT
BEGIN:VEVENT
DTSTART;TZID=UTC:20250703T160000
DTEND;TZID=UTC:20250703T180000
DTSTAMP:20260424T085435
CREATED:20250612T162243Z
LAST-MODIFIED:20250612T162243Z
UID:978-1751558400-1751565600@epca.org.uk
SUMMARY:FIRST CLASS LEARNING
DESCRIPTION:We offer Maths and English tuition that builds skills\, confidence and a passion for learning. We also offer Science tuition starting from year 6 through to year 9 preparing students to excel at GCSE sciences. \nWe are aligned to the National Curriculum ensuring you will see improvement at school and in their homework. We deliver our tailored and individualised tuition through printed worksheets and handbooks\, which is so much more effective than yet more screen time. \nWe have centres across Upminster and Hornchurch\, including here at Elm Park Assembly Hall\, open Thursday evening from 4.00 pm to 6.00 pm. \n​Contact us for a FREE Skills Assessment. \nCall 07710 392 503 \nwww.firstclasslearning.co.uk/upminster\nwww.firstclasslearning.co.uk/hornchurch\nwww.firstclasslearning.co.uk/elmpark
URL:https://epca.org.uk/event/first-class-learning-8/
LOCATION:ELM PARK COMMUNITY ASSOCIATION\, 108 EYHURST AVENUE\, ELM PARK\, ESSEX\, RM12 4RA
END:VEVENT
BEGIN:VEVENT
DTSTART;TZID=UTC:20250702T180000
DTEND;TZID=UTC:20250702T200000
DTSTAMP:20260424T085435
CREATED:20250612T143541Z
LAST-MODIFIED:20250612T143541Z
UID:882-1751479200-1751486400@epca.org.uk
SUMMARY:KAICHOU KAI KARATE
DESCRIPTION:Kaichou Kai – Strength in Unity – Together we support\, encourage and help each other to reach our goals! \nNo matter what your physical fitness level is\, you can rely on our experienced instructors to teach you martial arts skills and techniques\, from the most basic self-defence methods to advanced fighting techniques. \nAnyone aged 5 years or above can learn karate step by step. \nWe are affiliates of both Karate England and the World United Karate Federation. \nSuitable for all levels of ability. \nMonday & Wednesday \n\n6pm-7pm : Children Beginners under 10 years\n7pm – 8pm: Advanced & beginners\, all ages 13 years plus\n\nInstructor: Moira Barber – 8th Dan \nVisit our Website at https://kaichoukaikarate.co.uk/ \nFor more information please call Sensei Moira Barber on 07779 237 344 \nor alternative please email moirabarber@kaichoukaikarate.co.uk 
URL:https://epca.org.uk/event/kaichou-kai-karate-35/
LOCATION:ELM PARK COMMUNITY ASSOCIATION\, 108 EYHURST AVENUE\, ELM PARK\, ESSEX\, RM12 4RA
END:VEVENT
BEGIN:VEVENT
DTSTART;TZID=UTC:20250702T180000
DTEND;TZID=UTC:20250702T200000
DTSTAMP:20260424T085435
CREATED:20250612T142553Z
LAST-MODIFIED:20250612T142553Z
UID:850-1751479200-1751486400@epca.org.uk
SUMMARY:KAICHOU KAI KARATE
DESCRIPTION:Kaichou Kai – Strength in Unity – Together we support\, encourage and help each other to reach our goals! \nNo matter what your physical fitness level is\, you can rely on our experienced instructors to teach you martial arts skills and techniques\, from the most basic self-defence methods to advanced fighting techniques. \nAnyone aged 5 years or above can learn karate step by step. \nWe are affiliates of both Karate England and the World United Karate Federation. \nSuitable for all levels of ability. \nMonday & Wednesday \n\n6pm-7pm : Children Beginners under 10 years\n7pm – 8pm: Advanced & beginners\, all ages 13 years plus\n\nInstructor: Moira Barber – 8th Dan \nVisit our Website at https://kaichoukaikarate.co.uk/ \nFor more information please call Sensei Moira Barber on 07779 237 344 \nor alternative please email moirabarber@kaichoukaikarate.co.uk 
URL:https://epca.org.uk/event/kaichou-kai-karate-19/
LOCATION:ELM PARK COMMUNITY ASSOCIATION\, 108 EYHURST AVENUE\, ELM PARK\, ESSEX\, RM12 4RA
END:VEVENT
BEGIN:VEVENT
DTSTART;TZID=UTC:20250702T100000
DTEND;TZID=UTC:20250702T130000
DTSTAMP:20260424T085435
CREATED:20250612T140111Z
LAST-MODIFIED:20250612T140111Z
UID:786-1751450400-1751461200@epca.org.uk
SUMMARY:ELM PARK SOCIAL SESSION
DESCRIPTION:
URL:https://epca.org.uk/event/elm-park-social-session-14/
LOCATION:ELM PARK COMMUNITY ASSOCIATION\, 108 EYHURST AVENUE\, ELM PARK\, ESSEX\, RM12 4RA
END:VEVENT
BEGIN:VEVENT
DTSTART;TZID=UTC:20250701T190000
DTEND;TZID=UTC:20250701T200000
DTSTAMP:20260424T085435
CREATED:20250612T160509Z
LAST-MODIFIED:20250612T160509Z
UID:940-1751396400-1751400000@epca.org.uk
SUMMARY:ZUMBA WITH MARIA
DESCRIPTION:Perfect for everybody and every body! Each Zumba® class is designed to bring people together to sweat it on. \nWe take the “work” out of workout\, by mixing low-intensity and high-intensity moves for an interval-style\, calorie-burning dance fitness party. Once the Latin and World rhythms take over\, you’ll see why Zumba® Fitness classes are often called exercise in disguise. Super effective? Check. Super fun? Check and check. \nA total workout\, combining all elements of fitness – cardio\, muscle conditioning\, balance and flexibility\, boosted energy and a serious dose of awesome each time you leave class. \nTuesday Evenings 7pm – 8pm \nCall Maria on 07957 613516
URL:https://epca.org.uk/event/zumba-with-maria-15/
LOCATION:ELM PARK COMMUNITY ASSOCIATION\, 108 EYHURST AVENUE\, ELM PARK\, ESSEX\, RM12 4RA
END:VEVENT
BEGIN:VEVENT
DTSTART;TZID=UTC:20250630T180000
DTEND;TZID=UTC:20250630T200000
DTSTAMP:20260424T085435
CREATED:20250612T142526Z
LAST-MODIFIED:20250612T142526Z
UID:848-1751306400-1751313600@epca.org.uk
SUMMARY:KAICHOU KAI KARATE
DESCRIPTION:Kaichou Kai – Strength in Unity – Together we support\, encourage and help each other to reach our goals! \nNo matter what your physical fitness level is\, you can rely on our experienced instructors to teach you martial arts skills and techniques\, from the most basic self-defence methods to advanced fighting techniques. \nAnyone aged 5 years or above can learn karate step by step. \nWe are affiliates of both Karate England and the World United Karate Federation. \nSuitable for all levels of ability. \nMonday & Wednesday \n\n6pm-7pm : Children Beginners under 10 years\n7pm – 8pm: Advanced & beginners\, all ages 13 years plus\n\nInstructor: Moira Barber – 8th Dan \nVisit our Website at https://kaichoukaikarate.co.uk/ \nFor more information please call Sensei Moira Barber on 07779 237 344 \nor alternative please email moirabarber@kaichoukaikarate.co.uk 
URL:https://epca.org.uk/event/kaichou-kai-karate-18/
LOCATION:ELM PARK COMMUNITY ASSOCIATION\, 108 EYHURST AVENUE\, ELM PARK\, ESSEX\, RM12 4RA
END:VEVENT
BEGIN:VEVENT
DTSTART;TZID=UTC:20250628T100000
DTEND;TZID=UTC:20250628T130000
DTSTAMP:20260424T085435
CREATED:20250429T120020Z
LAST-MODIFIED:20250429T120020Z
UID:757-1751104800-1751115600@epca.org.uk
SUMMARY:INDOOR BOOT SALE
DESCRIPTION:To book a table please email events@epca.org.uk
URL:https://epca.org.uk/event/indoor-boot-sale-8/
LOCATION:ELM PARK COMMUNITY ASSOCIATION\, 108 EYHURST AVENUE\, ELM PARK\, ESSEX\, RM12 4RA
END:VEVENT
BEGIN:VEVENT
DTSTART;TZID=UTC:20250626T160000
DTEND;TZID=UTC:20250626T180000
DTSTAMP:20260424T085435
CREATED:20250612T162215Z
LAST-MODIFIED:20250612T162215Z
UID:976-1750953600-1750960800@epca.org.uk
SUMMARY:FIRT CLASS LEARNING
DESCRIPTION:We offer Maths and English tuition that builds skills\, confidence and a passion for learning. We also offer Science tuition starting from year 6 through to year 9 preparing students to excel at GCSE sciences. \nWe are aligned to the National Curriculum ensuring you will see improvement at school and in their homework. We deliver our tailored and individualised tuition through printed worksheets and handbooks\, which is so much more effective than yet more screen time. \nWe have centres across Upminster and Hornchurch\, including here at Elm Park Assembly Hall\, open Thursday evening from 4.00 pm to 6.00 pm. \n​Contact us for a FREE Skills Assessment. \nCall 07710 392 503 \nwww.firstclasslearning.co.uk/upminster\nwww.firstclasslearning.co.uk/hornchurch\nwww.firstclasslearning.co.uk/elmpark
URL:https://epca.org.uk/event/firt-class-learning/
LOCATION:ELM PARK COMMUNITY ASSOCIATION\, 108 EYHURST AVENUE\, ELM PARK\, ESSEX\, RM12 4RA
END:VEVENT
BEGIN:VEVENT
DTSTART;TZID=UTC:20250625T180000
DTEND;TZID=UTC:20250625T200000
DTSTAMP:20260424T085435
CREATED:20250612T142442Z
LAST-MODIFIED:20250612T142442Z
UID:846-1750874400-1750881600@epca.org.uk
SUMMARY:KAICHOU KAI KARATE
DESCRIPTION:Kaichou Kai – Strength in Unity – Together we support\, encourage and help each other to reach our goals! \nNo matter what your physical fitness level is\, you can rely on our experienced instructors to teach you martial arts skills and techniques\, from the most basic self-defence methods to advanced fighting techniques. \nAnyone aged 5 years or above can learn karate step by step. \nWe are affiliates of both Karate England and the World United Karate Federation. \nSuitable for all levels of ability. \nMonday & Wednesday \n\n6pm-7pm : Children Beginners under 10 years\n7pm – 8pm: Advanced & beginners\, all ages 13 years plus\n\nInstructor: Moira Barber – 8th Dan \nVisit our Website at https://kaichoukaikarate.co.uk/ \nFor more information please call Sensei Moira Barber on 07779 237 344 \nor alternative please email moirabarber@kaichoukaikarate.co.uk 
URL:https://epca.org.uk/event/kaichou-kai-karate-17/
LOCATION:ELM PARK COMMUNITY ASSOCIATION\, 108 EYHURST AVENUE\, ELM PARK\, ESSEX\, RM12 4RA
END:VEVENT
BEGIN:VEVENT
DTSTART;TZID=UTC:20250625T100000
DTEND;TZID=UTC:20250625T130000
DTSTAMP:20260424T085435
CREATED:20250612T140041Z
LAST-MODIFIED:20250612T140041Z
UID:784-1750845600-1750856400@epca.org.uk
SUMMARY:ELM PARK SOCIAL SESSION
DESCRIPTION:
URL:https://epca.org.uk/event/elm-park-social-session-13/
LOCATION:ELM PARK COMMUNITY ASSOCIATION\, 108 EYHURST AVENUE\, ELM PARK\, ESSEX\, RM12 4RA
END:VEVENT
BEGIN:VEVENT
DTSTART;TZID=UTC:20250624T190000
DTEND;TZID=UTC:20250624T200000
DTSTAMP:20260424T085435
CREATED:20250612T160447Z
LAST-MODIFIED:20250612T160447Z
UID:938-1750791600-1750795200@epca.org.uk
SUMMARY:ZUMBA WITH MARIA
DESCRIPTION:Perfect for everybody and every body! Each Zumba® class is designed to bring people together to sweat it on. \nWe take the “work” out of workout\, by mixing low-intensity and high-intensity moves for an interval-style\, calorie-burning dance fitness party. Once the Latin and World rhythms take over\, you’ll see why Zumba® Fitness classes are often called exercise in disguise. Super effective? Check. Super fun? Check and check. \nA total workout\, combining all elements of fitness – cardio\, muscle conditioning\, balance and flexibility\, boosted energy and a serious dose of awesome each time you leave class. \nTuesday Evenings 7pm – 8pm \nCall Maria on 07957 613516
URL:https://epca.org.uk/event/zumba-with-maria-14/
LOCATION:ELM PARK COMMUNITY ASSOCIATION\, 108 EYHURST AVENUE\, ELM PARK\, ESSEX\, RM12 4RA
END:VEVENT
BEGIN:VEVENT
DTSTART;TZID=UTC:20250623T180000
DTEND;TZID=UTC:20250623T200000
DTSTAMP:20260424T085435
CREATED:20250612T142414Z
LAST-MODIFIED:20250612T142414Z
UID:844-1750701600-1750708800@epca.org.uk
SUMMARY:KAICHOU KAI KARATE
DESCRIPTION:Kaichou Kai – Strength in Unity – Together we support\, encourage and help each other to reach our goals! \nNo matter what your physical fitness level is\, you can rely on our experienced instructors to teach you martial arts skills and techniques\, from the most basic self-defence methods to advanced fighting techniques. \nAnyone aged 5 years or above can learn karate step by step. \nWe are affiliates of both Karate England and the World United Karate Federation. \nSuitable for all levels of ability. \nMonday & Wednesday \n\n6pm-7pm : Children Beginners under 10 years\n7pm – 8pm: Advanced & beginners\, all ages 13 years plus\n\nInstructor: Moira Barber – 8th Dan \nVisit our Website at https://kaichoukaikarate.co.uk/ \nFor more information please call Sensei Moira Barber on 07779 237 344 \nor alternative please email moirabarber@kaichoukaikarate.co.uk 
URL:https://epca.org.uk/event/kaichou-kai-karate-16/
LOCATION:ELM PARK COMMUNITY ASSOCIATION\, 108 EYHURST AVENUE\, ELM PARK\, ESSEX\, RM12 4RA
END:VEVENT
BEGIN:VEVENT
DTSTART;TZID=UTC:20250619T160000
DTEND;TZID=UTC:20250619T180000
DTSTAMP:20260424T085435
CREATED:20250612T162155Z
LAST-MODIFIED:20250612T162155Z
UID:974-1750348800-1750356000@epca.org.uk
SUMMARY:FIRST CLASS LEARNING
DESCRIPTION:We offer Maths and English tuition that builds skills\, confidence and a passion for learning. We also offer Science tuition starting from year 6 through to year 9 preparing students to excel at GCSE sciences. \nWe are aligned to the National Curriculum ensuring you will see improvement at school and in their homework. We deliver our tailored and individualised tuition through printed worksheets and handbooks\, which is so much more effective than yet more screen time. \nWe have centres across Upminster and Hornchurch\, including here at Elm Park Assembly Hall\, open Thursday evening from 4.00 pm to 6.00 pm. \n​Contact us for a FREE Skills Assessment. \nCall 07710 392 503 \nwww.firstclasslearning.co.uk/upminster\nwww.firstclasslearning.co.uk/hornchurch\nwww.firstclasslearning.co.uk/elmpark
URL:https://epca.org.uk/event/first-class-learning-7/
LOCATION:ELM PARK COMMUNITY ASSOCIATION\, 108 EYHURST AVENUE\, ELM PARK\, ESSEX\, RM12 4RA
END:VEVENT
BEGIN:VEVENT
DTSTART;TZID=UTC:20250618T180000
DTEND;TZID=UTC:20250618T200000
DTSTAMP:20260424T085435
CREATED:20250612T142341Z
LAST-MODIFIED:20250612T142341Z
UID:842-1750269600-1750276800@epca.org.uk
SUMMARY:KAICHOU KAI KARATE
DESCRIPTION:Kaichou Kai – Strength in Unity – Together we support\, encourage and help each other to reach our goals! \nNo matter what your physical fitness level is\, you can rely on our experienced instructors to teach you martial arts skills and techniques\, from the most basic self-defence methods to advanced fighting techniques. \nAnyone aged 5 years or above can learn karate step by step. \nWe are affiliates of both Karate England and the World United Karate Federation. \nSuitable for all levels of ability. \nMonday & Wednesday \n\n6pm-7pm : Children Beginners under 10 years\n7pm – 8pm: Advanced & beginners\, all ages 13 years plus\n\nInstructor: Moira Barber – 8th Dan \nVisit our Website at https://kaichoukaikarate.co.uk/ \nFor more information please call Sensei Moira Barber on 07779 237 344 \nor alternative please email moirabarber@kaichoukaikarate.co.uk 
URL:https://epca.org.uk/event/kaichou-kai-karate-15/
LOCATION:ELM PARK COMMUNITY ASSOCIATION\, 108 EYHURST AVENUE\, ELM PARK\, ESSEX\, RM12 4RA
END:VEVENT
BEGIN:VEVENT
DTSTART;TZID=UTC:20250618T100000
DTEND;TZID=UTC:20250618T130000
DTSTAMP:20260424T085435
CREATED:20250612T140007Z
LAST-MODIFIED:20250612T140007Z
UID:782-1750240800-1750251600@epca.org.uk
SUMMARY:ELM PARK SOCIAL SESSION
DESCRIPTION:
URL:https://epca.org.uk/event/elm-park-social-session-12/
LOCATION:ELM PARK COMMUNITY ASSOCIATION\, 108 EYHURST AVENUE\, ELM PARK\, ESSEX\, RM12 4RA
END:VEVENT
BEGIN:VEVENT
DTSTART;TZID=UTC:20250617T190000
DTEND;TZID=UTC:20250617T200000
DTSTAMP:20260424T085435
CREATED:20250612T160427Z
LAST-MODIFIED:20250612T160427Z
UID:936-1750186800-1750190400@epca.org.uk
SUMMARY:ZUMBA WITH MARIA
DESCRIPTION:Perfect for everybody and every body! Each Zumba® class is designed to bring people together to sweat it on. \nWe take the “work” out of workout\, by mixing low-intensity and high-intensity moves for an interval-style\, calorie-burning dance fitness party. Once the Latin and World rhythms take over\, you’ll see why Zumba® Fitness classes are often called exercise in disguise. Super effective? Check. Super fun? Check and check. \nA total workout\, combining all elements of fitness – cardio\, muscle conditioning\, balance and flexibility\, boosted energy and a serious dose of awesome each time you leave class. \nTuesday Evenings 7pm – 8pm \nCall Maria on 07957 613516
URL:https://epca.org.uk/event/zumba-with-maria-13/
LOCATION:ELM PARK COMMUNITY ASSOCIATION\, 108 EYHURST AVENUE\, ELM PARK\, ESSEX\, RM12 4RA
END:VEVENT
BEGIN:VEVENT
DTSTART;TZID=UTC:20250616T180000
DTEND;TZID=UTC:20250616T200000
DTSTAMP:20260424T085435
CREATED:20250612T142251Z
LAST-MODIFIED:20250612T142251Z
UID:840-1750096800-1750104000@epca.org.uk
SUMMARY:KAICHOU KAI KARATE
DESCRIPTION:Kaichou Kai – Strength in Unity – Together we support\, encourage and help each other to reach our goals! \nNo matter what your physical fitness level is\, you can rely on our experienced instructors to teach you martial arts skills and techniques\, from the most basic self-defence methods to advanced fighting techniques. \nAnyone aged 5 years or above can learn karate step by step. \nWe are affiliates of both Karate England and the World United Karate Federation. \nSuitable for all levels of ability. \nMonday & Wednesday \n\n6pm-7pm : Children Beginners under 10 years\n7pm – 8pm: Advanced & beginners\, all ages 13 years plus\n\nInstructor: Moira Barber – 8th Dan \nVisit our Website at https://kaichoukaikarate.co.uk/ \nFor more information please call Sensei Moira Barber on 07779 237 344 \nor alternative please email moirabarber@kaichoukaikarate.co.uk 
URL:https://epca.org.uk/event/kaichou-kai-karate-14/
LOCATION:ELM PARK COMMUNITY ASSOCIATION\, 108 EYHURST AVENUE\, ELM PARK\, ESSEX\, RM12 4RA
END:VEVENT
BEGIN:VEVENT
DTSTART;TZID=UTC:20250612T100000
DTEND;TZID=UTC:20250612T130000
DTSTAMP:20260424T085435
CREATED:20250612T141643Z
LAST-MODIFIED:20250612T141643Z
UID:836-1749722400-1749733200@epca.org.uk
SUMMARY:ELM PARK SOCIAL SESSION
DESCRIPTION:
URL:https://epca.org.uk/event/elm-park-social-session-38/
LOCATION:ELM PARK COMMUNITY ASSOCIATION\, 108 EYHURST AVENUE\, ELM PARK\, ESSEX\, RM12 4RA
END:VEVENT
BEGIN:VEVENT
DTSTART;TZID=UTC:20250606T190000
DTEND;TZID=UTC:20250606T220000
DTSTAMP:20260424T085435
CREATED:20250429T115146Z
LAST-MODIFIED:20250429T115146Z
UID:751-1749236400-1749247200@epca.org.uk
SUMMARY:Barn Dance
DESCRIPTION:Join us on Friday 6th June 2025 for our Barn Dance Fundraiser – email events@epca.org.uk for tickets
URL:https://epca.org.uk/event/barn-dance/
LOCATION:ELM PARK COMMUNITY ASSOCIATION\, 108 EYHURST AVENUE\, ELM PARK\, ESSEX\, RM12 4RA
END:VEVENT
BEGIN:VEVENT
DTSTART;TZID=UTC:20250531T100000
DTEND;TZID=UTC:20250531T130000
DTSTAMP:20260424T085435
CREATED:20250429T115933Z
LAST-MODIFIED:20250429T115933Z
UID:754-1748685600-1748696400@epca.org.uk
SUMMARY:Indoor Boot Sale
DESCRIPTION:To book a table please email events@epca.org.uk
URL:https://epca.org.uk/event/indoor-boot-sale-7/
LOCATION:ELM PARK COMMUNITY ASSOCIATION\, 108 EYHURST AVENUE\, ELM PARK\, ESSEX\, RM12 4RA
END:VEVENT
BEGIN:VEVENT
DTSTART;TZID=UTC:20241214T100000
DTEND;TZID=UTC:20241214T130000
DTSTAMP:20260424T085435
CREATED:20240917T182754Z
LAST-MODIFIED:20240917T182754Z
UID:620-1734170400-1734181200@epca.org.uk
SUMMARY:INDOOR BOOT SALE
DESCRIPTION:
URL:https://epca.org.uk/event/indoor-boot-sale-6/
LOCATION:ELM PARK COMMUNITY ASSOCIATION\, 108 EYHURST AVENUE\, ELM PARK\, ESSEX\, RM12 4RA
END:VEVENT
BEGIN:VEVENT
DTSTART;TZID=UTC:20241128T190000
DTEND;TZID=UTC:20241128T200000
DTSTAMP:20260424T085435
CREATED:20240917T184420Z
LAST-MODIFIED:20240917T184420Z
UID:665-1732820400-1732824000@epca.org.uk
SUMMARY:PUPPY/ ADOLESCENT CLASSES
DESCRIPTION:Set you & your puppy up for success 4 week courseThursdays 7pm-8pmElm Park Assembly Hall\, Hornchurchwww.elitewalks.co.uk07930520056
URL:https://epca.org.uk/event/puppy-adolescent-classes-11/
LOCATION:ELM PARK COMMUNITY ASSOCIATION\, 108 EYHURST AVENUE\, ELM PARK\, ESSEX\, RM12 4RA
END:VEVENT
END:VCALENDAR