BEGIN:VCALENDAR
VERSION:2.0
PRODID:-//Elm Park Community Association - ECPv6.3.2//NONSGML v1.0//EN
CALSCALE:GREGORIAN
METHOD:PUBLISH
X-WR-CALNAME:Elm Park Community Association
X-ORIGINAL-URL:https://epca.org.uk
X-WR-CALDESC:Events for Elm Park Community Association
REFRESH-INTERVAL;VALUE=DURATION:PT1H
X-Robots-Tag:noindex
X-PUBLISHED-TTL:PT1H
BEGIN:VTIMEZONE
TZID:UTC
BEGIN:STANDARD
TZOFFSETFROM:+0000
TZOFFSETTO:+0000
TZNAME:UTC
DTSTART:20250101T000000
END:STANDARD
END:VTIMEZONE
BEGIN:VEVENT
DTSTART;TZID=UTC:20251203T100000
DTEND;TZID=UTC:20251203T130000
DTSTAMP:20260423T202346
CREATED:20250612T141543Z
LAST-MODIFIED:20250612T141543Z
UID:832-1764756000-1764766800@epca.org.uk
SUMMARY:ELM PARK SOCIAL SESSION
DESCRIPTION:
URL:https://epca.org.uk/event/elm-park-social-session-36/
LOCATION:ELM PARK COMMUNITY ASSOCIATION\, 108 EYHURST AVENUE\, ELM PARK\, ESSEX\, RM12 4RA
END:VEVENT
BEGIN:VEVENT
DTSTART;TZID=UTC:20251210T100000
DTEND;TZID=UTC:20251210T130000
DTSTAMP:20260423T202346
CREATED:20250612T141615Z
LAST-MODIFIED:20250612T141615Z
UID:834-1765360800-1765371600@epca.org.uk
SUMMARY:ELM PARK SOCIAL SESSION
DESCRIPTION:
URL:https://epca.org.uk/event/elm-park-social-session-37/
LOCATION:ELM PARK COMMUNITY ASSOCIATION\, 108 EYHURST AVENUE\, ELM PARK\, ESSEX\, RM12 4RA
END:VEVENT
BEGIN:VEVENT
DTSTART;TZID=UTC:20251213T100000
DTEND;TZID=UTC:20251213T130000
DTSTAMP:20260423T202346
CREATED:20250429T120441Z
LAST-MODIFIED:20250429T120441Z
UID:769-1765620000-1765630800@epca.org.uk
SUMMARY:INDOOR BOOT SALE
DESCRIPTION:To book a table please email events@epca.org.uk
URL:https://epca.org.uk/event/indoor-boot-sale-12/
LOCATION:ELM PARK COMMUNITY ASSOCIATION\, 108 EYHURST AVENUE\, ELM PARK\, ESSEX\, RM12 4RA
END:VEVENT
BEGIN:VEVENT
DTSTART;TZID=UTC:20251217T100000
DTEND;TZID=UTC:20251217T130000
DTSTAMP:20260423T202346
CREATED:20250612T141734Z
LAST-MODIFIED:20250612T141734Z
UID:838-1765965600-1765976400@epca.org.uk
SUMMARY:ELM PARK SOCIAL SESSION
DESCRIPTION:
URL:https://epca.org.uk/event/elm-park-social-session-39/
LOCATION:ELM PARK COMMUNITY ASSOCIATION\, 108 EYHURST AVENUE\, ELM PARK\, ESSEX\, RM12 4RA
END:VEVENT
END:VCALENDAR